BEGIN:VCALENDAR
VERSION:2.0
PRODID:-//Settlement Music School - ECPv6.15.12.2//NONSGML v1.0//EN
CALSCALE:GREGORIAN
METHOD:PUBLISH
X-WR-CALNAME:Settlement Music School
X-ORIGINAL-URL:https://settlementmusic.org
X-WR-CALDESC:Events for Settlement Music School
REFRESH-INTERVAL;VALUE=DURATION:PT1H
X-Robots-Tag:noindex
X-PUBLISHED-TTL:PT1H
BEGIN:VTIMEZONE
TZID:America/New_York
BEGIN:DAYLIGHT
TZOFFSETFROM:-0500
TZOFFSETTO:-0400
TZNAME:EDT
DTSTART:20250309T070000
END:DAYLIGHT
BEGIN:STANDARD
TZOFFSETFROM:-0400
TZOFFSETTO:-0500
TZNAME:EST
DTSTART:20251102T060000
END:STANDARD
BEGIN:DAYLIGHT
TZOFFSETFROM:-0500
TZOFFSETTO:-0400
TZNAME:EDT
DTSTART:20260308T070000
END:DAYLIGHT
BEGIN:STANDARD
TZOFFSETFROM:-0400
TZOFFSETTO:-0500
TZNAME:EST
DTSTART:20261101T060000
END:STANDARD
BEGIN:DAYLIGHT
TZOFFSETFROM:-0500
TZOFFSETTO:-0400
TZNAME:EDT
DTSTART:20270314T070000
END:DAYLIGHT
BEGIN:STANDARD
TZOFFSETFROM:-0400
TZOFFSETTO:-0500
TZNAME:EST
DTSTART:20271107T060000
END:STANDARD
END:VTIMEZONE
BEGIN:VEVENT
DTSTART;TZID=America/New_York:20260111T150000
DTEND;TZID=America/New_York:20260111T150000
DTSTAMP:20260421T193940
CREATED:20251212T175546Z
LAST-MODIFIED:20251212T175546Z
UID:10001027-1768143600-1768143600@settlementmusic.org
SUMMARY:Adult Chamber Players Orchestra Concert
DESCRIPTION:
URL:https://settlementmusic.org/event/adult-chamber-players-orchestra-concert-2/
LOCATION:Willow Grove Branch\, 318 Davisville Road\, Willow Grove\, PA\, 19090\, United States
CATEGORIES:Concert,Willow Grove
ATTACH;FMTTYPE=image/jpeg:https://settlementmusic.org/app/uploads/2025/02/Adult-Orchestra.jpg
END:VEVENT
BEGIN:VEVENT
DTSTART;TZID=America/New_York:20260116T190000
DTEND;TZID=America/New_York:20260116T190000
DTSTAMP:20260421T193940
CREATED:20250826T195115Z
LAST-MODIFIED:20250826T195115Z
UID:10000969-1768590000-1768590000@settlementmusic.org
SUMMARY:Performance Hour (Willow Grove)
DESCRIPTION:
URL:https://settlementmusic.org/event/performance-hour-willow-grove-21/
LOCATION:Willow Grove Branch\, 318 Davisville Road\, Willow Grove\, PA\, 19090\, United States
CATEGORIES:Willow Grove
END:VEVENT
BEGIN:VEVENT
DTSTART;TZID=America/New_York:20260123T190000
DTEND;TZID=America/New_York:20260123T190000
DTSTAMP:20260421T193940
CREATED:20250826T195119Z
LAST-MODIFIED:20250826T195119Z
UID:10000970-1769194800-1769194800@settlementmusic.org
SUMMARY:Student Recital (Willow Grove)
DESCRIPTION:
URL:https://settlementmusic.org/event/student-recital-willow-grove-21/
LOCATION:Willow Grove Branch\, 318 Davisville Road\, Willow Grove\, PA\, 19090\, United States
CATEGORIES:Willow Grove
END:VEVENT
END:VCALENDAR