BEGIN:VCALENDAR
VERSION:2.0
PRODID:-//Settlement Music School - ECPv6.15.12.2//NONSGML v1.0//EN
CALSCALE:GREGORIAN
METHOD:PUBLISH
X-WR-CALNAME:Settlement Music School
X-ORIGINAL-URL:https://settlementmusic.org
X-WR-CALDESC:Events for Settlement Music School
REFRESH-INTERVAL;VALUE=DURATION:PT1H
X-Robots-Tag:noindex
X-PUBLISHED-TTL:PT1H
BEGIN:VTIMEZONE
TZID:America/New_York
BEGIN:DAYLIGHT
TZOFFSETFROM:-0500
TZOFFSETTO:-0400
TZNAME:EDT
DTSTART:20250309T070000
END:DAYLIGHT
BEGIN:STANDARD
TZOFFSETFROM:-0400
TZOFFSETTO:-0500
TZNAME:EST
DTSTART:20251102T060000
END:STANDARD
BEGIN:DAYLIGHT
TZOFFSETFROM:-0500
TZOFFSETTO:-0400
TZNAME:EDT
DTSTART:20260308T070000
END:DAYLIGHT
BEGIN:STANDARD
TZOFFSETFROM:-0400
TZOFFSETTO:-0500
TZNAME:EST
DTSTART:20261101T060000
END:STANDARD
BEGIN:DAYLIGHT
TZOFFSETFROM:-0500
TZOFFSETTO:-0400
TZNAME:EDT
DTSTART:20270314T070000
END:DAYLIGHT
BEGIN:STANDARD
TZOFFSETFROM:-0400
TZOFFSETTO:-0500
TZNAME:EST
DTSTART:20271107T060000
END:STANDARD
END:VTIMEZONE
BEGIN:VEVENT
DTSTART;TZID=America/New_York:20260602T190000
DTEND;TZID=America/New_York:20260602T190000
DTSTAMP:20260421T160841
CREATED:20250826T195525Z
LAST-MODIFIED:20250826T195525Z
UID:10000982-1780426800-1780426800@settlementmusic.org
SUMMARY:Spring Chamber Music Concert
DESCRIPTION:
URL:https://settlementmusic.org/event/spring-chamber-music-concert/
LOCATION:Willow Grove Branch\, 318 Davisville Road\, Willow Grove\, PA\, 19090\, United States
CATEGORIES:Concert,Willow Grove
END:VEVENT
BEGIN:VEVENT
DTSTART;TZID=America/New_York:20260605T190000
DTEND;TZID=America/New_York:20260605T190000
DTSTAMP:20260421T160841
CREATED:20260319T193026Z
LAST-MODIFIED:20260319T193026Z
UID:10001050-1780686000-1780686000@settlementmusic.org
SUMMARY:Lynne Budnick-Lennon Studio Recital
DESCRIPTION:
URL:https://settlementmusic.org/event/lynne-budnick-lennon-studio-recital/
LOCATION:Willow Grove Branch\, 318 Davisville Road\, Willow Grove\, PA\, 19090\, United States
CATEGORIES:Concert,Willow Grove
END:VEVENT
BEGIN:VEVENT
DTSTART;TZID=America/New_York:20260606T170000
DTEND;TZID=America/New_York:20260606T170000
DTSTAMP:20260421T160841
CREATED:20260416T200036Z
LAST-MODIFIED:20260416T200036Z
UID:10001052-1780765200-1780765200@settlementmusic.org
SUMMARY:Cellobration
DESCRIPTION:
URL:https://settlementmusic.org/event/cellobration-2/
LOCATION:Willow Grove Branch\, 318 Davisville Road\, Willow Grove\, PA\, 19090\, United States
CATEGORIES:Concert,Willow Grove
ATTACH;FMTTYPE=image/jpeg:https://settlementmusic.org/app/uploads/2026/04/Cello-WGB-Performance.jpg
END:VEVENT
BEGIN:VEVENT
DTSTART;TZID=America/New_York:20260612T190000
DTEND;TZID=America/New_York:20260612T190000
DTSTAMP:20260421T160841
CREATED:20250826T195121Z
LAST-MODIFIED:20250826T195121Z
UID:10000971-1781290800-1781290800@settlementmusic.org
SUMMARY:Performance Hour (Willow Grove)
DESCRIPTION:
URL:https://settlementmusic.org/event/performance-hour-willow-grove-22/
LOCATION:Willow Grove Branch\, 318 Davisville Road\, Willow Grove\, PA\, 19090\, United States
CATEGORIES:Willow Grove
END:VEVENT
END:VCALENDAR