BEGIN:VCALENDAR
VERSION:2.0
PRODID:-//Settlement Music School - ECPv6.15.12.2//NONSGML v1.0//EN
CALSCALE:GREGORIAN
METHOD:PUBLISH
X-WR-CALNAME:Settlement Music School
X-ORIGINAL-URL:https://settlementmusic.org
X-WR-CALDESC:Events for Settlement Music School
REFRESH-INTERVAL;VALUE=DURATION:PT1H
X-Robots-Tag:noindex
X-PUBLISHED-TTL:PT1H
BEGIN:VTIMEZONE
TZID:America/New_York
BEGIN:DAYLIGHT
TZOFFSETFROM:-0500
TZOFFSETTO:-0400
TZNAME:EDT
DTSTART:20230312T070000
END:DAYLIGHT
BEGIN:STANDARD
TZOFFSETFROM:-0400
TZOFFSETTO:-0500
TZNAME:EST
DTSTART:20231105T060000
END:STANDARD
BEGIN:DAYLIGHT
TZOFFSETFROM:-0500
TZOFFSETTO:-0400
TZNAME:EDT
DTSTART:20240310T070000
END:DAYLIGHT
BEGIN:STANDARD
TZOFFSETFROM:-0400
TZOFFSETTO:-0500
TZNAME:EST
DTSTART:20241103T060000
END:STANDARD
BEGIN:DAYLIGHT
TZOFFSETFROM:-0500
TZOFFSETTO:-0400
TZNAME:EDT
DTSTART:20250309T070000
END:DAYLIGHT
BEGIN:STANDARD
TZOFFSETFROM:-0400
TZOFFSETTO:-0500
TZNAME:EST
DTSTART:20251102T060000
END:STANDARD
END:VTIMEZONE
BEGIN:VEVENT
DTSTART;VALUE=DATE:20240902
DTEND;VALUE=DATE:20240903
DTSTAMP:20260422T152258
CREATED:20240717T160335Z
LAST-MODIFIED:20240717T160335Z
UID:10000576-1725235200-1725321599@settlementmusic.org
SUMMARY:Labor Day | All Branches\, Kaleidoscope Programs & Offices Closed
DESCRIPTION:
URL:https://settlementmusic.org/event/labor-day-all-branches-kaleidoscope-programs-offices-closed/
LOCATION:All Branches\, PA\, United States
CATEGORIES:Holidays
END:VEVENT
BEGIN:VEVENT
DTSTART;VALUE=DATE:20240903
DTEND;VALUE=DATE:20240904
DTSTAMP:20260422T152258
CREATED:20240729T182035Z
LAST-MODIFIED:20240729T182035Z
UID:10000718-1725321600-1725407999@settlementmusic.org
SUMMARY:First Day of Individual Instruction & Kaleidoscope Program 
DESCRIPTION:
URL:https://settlementmusic.org/event/first-day-of-individual-instruction-kaleidoscope-program/
LOCATION:All Branches\, PA\, United States
CATEGORIES:Students & Parents
END:VEVENT
BEGIN:VEVENT
DTSTART;VALUE=DATE:20240916
DTEND;VALUE=DATE:20240917
DTSTAMP:20260422T152258
CREATED:20240729T182048Z
LAST-MODIFIED:20240729T182048Z
UID:10000719-1726444800-1726531199@settlementmusic.org
SUMMARY:First Day of Classes 
DESCRIPTION:
URL:https://settlementmusic.org/event/first-day-of-classes/
LOCATION:All Branches\, PA\, United States
CATEGORIES:Kaleidoscope Program
END:VEVENT
BEGIN:VEVENT
DTSTART;TZID=America/New_York:20240917T180000
DTEND;TZID=America/New_York:20240917T180000
DTSTAMP:20260422T152258
CREATED:20240729T174414Z
LAST-MODIFIED:20240729T174414Z
UID:10000676-1726596000-1726596000@settlementmusic.org
SUMMARY:Jazz Bridge Community Concert - Kimpedro Rodriguez (Percussion)
DESCRIPTION:
URL:https://settlementmusic.org/event/jazz-bridge-community-concert-kimpedro-rodriguez-percussion/
LOCATION:Benoliel-Germantown Branch\, 6128 Germantown Ave\, Philadelphia\, PA\, 19144\, United States
CATEGORIES:Germantown
END:VEVENT
BEGIN:VEVENT
DTSTART;TZID=America/New_York:20240930T180000
DTEND;TZID=America/New_York:20240930T200000
DTSTAMP:20260422T152258
CREATED:20240927T191325Z
LAST-MODIFIED:20240927T191325Z
UID:10000752-1727719200-1727726400@settlementmusic.org
SUMMARY:PMAY Masterclass: Natasha Brofsky
DESCRIPTION:
URL:https://settlementmusic.org/event/pmay-masterclass-natasha-brofsky/
LOCATION:Mary Louise Curtis Branch\, 416 Queen St.\, Philadelphia\, PA\, 19147\, United States
CATEGORIES:Workshop
ORGANIZER;CN="PMAY Artists' Initiative":MAILTO:najib.wong@pmayartists.org
END:VEVENT
END:VCALENDAR