BEGIN:VCALENDAR
VERSION:2.0
PRODID:-//Settlement Music School - ECPv6.15.12.2//NONSGML v1.0//EN
CALSCALE:GREGORIAN
METHOD:PUBLISH
X-WR-CALNAME:Settlement Music School
X-ORIGINAL-URL:https://settlementmusic.org
X-WR-CALDESC:Events for Settlement Music School
REFRESH-INTERVAL;VALUE=DURATION:PT1H
X-Robots-Tag:noindex
X-PUBLISHED-TTL:PT1H
BEGIN:VTIMEZONE
TZID:America/New_York
BEGIN:DAYLIGHT
TZOFFSETFROM:-0500
TZOFFSETTO:-0400
TZNAME:EDT
DTSTART:20230312T070000
END:DAYLIGHT
BEGIN:STANDARD
TZOFFSETFROM:-0400
TZOFFSETTO:-0500
TZNAME:EST
DTSTART:20231105T060000
END:STANDARD
BEGIN:DAYLIGHT
TZOFFSETFROM:-0500
TZOFFSETTO:-0400
TZNAME:EDT
DTSTART:20240310T070000
END:DAYLIGHT
BEGIN:STANDARD
TZOFFSETFROM:-0400
TZOFFSETTO:-0500
TZNAME:EST
DTSTART:20241103T060000
END:STANDARD
BEGIN:DAYLIGHT
TZOFFSETFROM:-0500
TZOFFSETTO:-0400
TZNAME:EDT
DTSTART:20250309T070000
END:DAYLIGHT
BEGIN:STANDARD
TZOFFSETFROM:-0400
TZOFFSETTO:-0500
TZNAME:EST
DTSTART:20251102T060000
END:STANDARD
END:VTIMEZONE
BEGIN:VEVENT
DTSTART;TZID=America/New_York:20240509T080000
DTEND;TZID=America/New_York:20240509T170000
DTSTAMP:20260422T235915
CREATED:20240509T205713Z
LAST-MODIFIED:20240509T205713Z
UID:10000194-1715241600-1715274000@settlementmusic.org
SUMMARY:Wynnefield Jazz Ensembles play Jamey’s House of Music
DESCRIPTION:
URL:https://settlementmusic.org/event/wynnefield-jazz-ensembles-play-jameys-house-of-music/
LOCATION:Jamey’s House of Music\, 32 S Lansdowne Ave.\, Lansdowne\, PA\, 19050\, United States
CATEGORIES:Concert,Wynnefield
END:VEVENT
BEGIN:VEVENT
DTSTART;TZID=America/New_York:20240513T183000
DTEND;TZID=America/New_York:20240513T193000
DTSTAMP:20260422T235915
CREATED:20240509T210352Z
LAST-MODIFIED:20240509T210352Z
UID:10000197-1715625000-1715628600@settlementmusic.org
SUMMARY:Russell Klein Studio Recital
DESCRIPTION:
URL:https://settlementmusic.org/event/russell-klein-studio-recital-2/
LOCATION:Kardon-Northeast Branch\, 3745 Clarendon Avenue\, Philadelphia\, PA\, 19114\, United States
CATEGORIES:Concert,Kardon-Northeast
END:VEVENT
BEGIN:VEVENT
DTSTART;TZID=America/New_York:20240519T150000
DTEND;TZID=America/New_York:20240519T150000
DTSTAMP:20260422T235915
CREATED:20231002T165655Z
LAST-MODIFIED:20240103T201311Z
UID:10000101-1716130800-1716130800@settlementmusic.org
SUMMARY:Tapestry Strings Group Concert
DESCRIPTION:
URL:https://settlementmusic.org/event/tapestry-strings-group-concert/
LOCATION:Mary Louise Curtis Branch\, 416 Queen St.\, Philadelphia\, PA\, 19147\, United States
CATEGORIES:Mary Louise Curtis
END:VEVENT
BEGIN:VEVENT
DTSTART;TZID=America/New_York:20240519T170000
DTEND;TZID=America/New_York:20240519T170000
DTSTAMP:20260422T235915
CREATED:20231002T164634Z
LAST-MODIFIED:20240227T214237Z
UID:10000061-1716138000-1716138000@settlementmusic.org
SUMMARY:Gleeksman-Kohn Children's Choir Concert
DESCRIPTION:
URL:https://settlementmusic.org/event/gleeksman-kohn-childrens-choir-winter-concert/
LOCATION:Benoliel-Germantown Branch\, 6128 Germantown Ave\, Philadelphia\, PA\, 19144\, United States
CATEGORIES:Germantown
ATTACH;FMTTYPE=image/png:https://settlementmusic.org/app/uploads/2023/10/GKCC-15-X2.png
END:VEVENT
BEGIN:VEVENT
DTSTART;TZID=America/New_York:20240521T190000
DTEND;TZID=America/New_York:20240521T190000
DTSTAMP:20260422T235915
CREATED:20240509T210149Z
LAST-MODIFIED:20240509T210149Z
UID:10000195-1716318000-1716318000@settlementmusic.org
SUMMARY:Jazz Bridge Presents: Germantown Neighborhood Concerts ft. Chris Oatts
DESCRIPTION:
URL:https://settlementmusic.org/event/jazz-bridge-presents-germantown-neighborhood-concerts-ft-chris-oatts/
LOCATION:Benoliel-Germantown Branch\, 6128 Germantown Ave\, Philadelphia\, PA\, 19144\, United States
CATEGORIES:Concert,Germantown
END:VEVENT
BEGIN:VEVENT
DTSTART;TZID=America/New_York:20240523T110000
DTEND;TZID=America/New_York:20240523T130000
DTSTAMP:20260422T235915
CREATED:20231009T173032Z
LAST-MODIFIED:20240507T192851Z
UID:10000163-1716462000-1716469200@settlementmusic.org
SUMMARY:Adult Orchestra Concert
DESCRIPTION:
URL:https://settlementmusic.org/event/adult-orchestra-concert-2/
LOCATION:Willow Grove Branch\, 318 Davisville Road\, Willow Grove\, PA\, 19090\, United States
CATEGORIES:Concert,Willow Grove
END:VEVENT
BEGIN:VEVENT
DTSTART;TZID=America/New_York:20240528T190000
DTEND;TZID=America/New_York:20240528T190000
DTSTAMP:20260422T235915
CREATED:20240412T163919Z
LAST-MODIFIED:20240412T163919Z
UID:10000185-1716922800-1716922800@settlementmusic.org
SUMMARY:Kardon Chorale Spring Concert
DESCRIPTION:
URL:https://settlementmusic.org/event/kardon-chorale-spring-concert/
LOCATION:Kardon-Northeast Branch\, 3745 Clarendon Avenue\, Philadelphia\, PA\, 19114\, United States
CATEGORIES:Concert,Kardon-Northeast
END:VEVENT
BEGIN:VEVENT
DTSTART;TZID=America/New_York:20240529T190000
DTEND;TZID=America/New_York:20240529T190000
DTSTAMP:20260422T235915
CREATED:20240412T164457Z
LAST-MODIFIED:20240412T164457Z
UID:10000186-1717009200-1717009200@settlementmusic.org
SUMMARY:Kardon Rock Band and Special Guests Spring Concert
DESCRIPTION:
URL:https://settlementmusic.org/event/kardon-band-spring-concert/
LOCATION:Kardon-Northeast Branch\, 3745 Clarendon Avenue\, Philadelphia\, PA\, 19114\, United States
CATEGORIES:Concert,Kardon-Northeast
END:VEVENT
BEGIN:VEVENT
DTSTART;TZID=America/New_York:20240530T183000
DTEND;TZID=America/New_York:20240530T183000
DTSTAMP:20260422T235915
CREATED:20240227T160531Z
LAST-MODIFIED:20240227T214234Z
UID:10000179-1717093800-1717093800@settlementmusic.org
SUMMARY:Music Education Pathways Concert
DESCRIPTION:
URL:https://settlementmusic.org/event/music-education-pathways-concert/
LOCATION:Temple Performing Arts Center\, 1837 N. Broad St\, Philadelphia\, PA\, 19122\, United States
CATEGORIES:Concert,Music Education Pathways
ATTACH;FMTTYPE=image/jpeg:https://settlementmusic.org/app/uploads/2024/02/8-SMS-MEP-2023-1219-X2.jpg
END:VEVENT
END:VCALENDAR