BEGIN:VCALENDAR
VERSION:2.0
PRODID:-//Settlement Music School - ECPv6.15.12.2//NONSGML v1.0//EN
CALSCALE:GREGORIAN
METHOD:PUBLISH
X-ORIGINAL-URL:https://settlementmusic.org
X-WR-CALDESC:Events for Settlement Music School
REFRESH-INTERVAL;VALUE=DURATION:PT1H
X-Robots-Tag:noindex
X-PUBLISHED-TTL:PT1H
BEGIN:VTIMEZONE
TZID:America/New_York
BEGIN:DAYLIGHT
TZOFFSETFROM:-0500
TZOFFSETTO:-0400
TZNAME:EDT
DTSTART:20230312T070000
END:DAYLIGHT
BEGIN:STANDARD
TZOFFSETFROM:-0400
TZOFFSETTO:-0500
TZNAME:EST
DTSTART:20231105T060000
END:STANDARD
BEGIN:DAYLIGHT
TZOFFSETFROM:-0500
TZOFFSETTO:-0400
TZNAME:EDT
DTSTART:20240310T070000
END:DAYLIGHT
BEGIN:STANDARD
TZOFFSETFROM:-0400
TZOFFSETTO:-0500
TZNAME:EST
DTSTART:20241103T060000
END:STANDARD
BEGIN:DAYLIGHT
TZOFFSETFROM:-0500
TZOFFSETTO:-0400
TZNAME:EDT
DTSTART:20250309T070000
END:DAYLIGHT
BEGIN:STANDARD
TZOFFSETFROM:-0400
TZOFFSETTO:-0500
TZNAME:EST
DTSTART:20251102T060000
END:STANDARD
END:VTIMEZONE
BEGIN:VEVENT
DTSTART;TZID=America/New_York:20241006T150000
DTEND;TZID=America/New_York:20241006T150000
DTSTAMP:20260422T170710
CREATED:20240729T174421Z
LAST-MODIFIED:20240729T174421Z
UID:10000677-1728226800-1728226800@settlementmusic.org
SUMMARY:Network for New Music Concert
DESCRIPTION:
URL:https://settlementmusic.org/event/network-for-new-music-concert/
LOCATION:Benoliel-Germantown Branch\, 6128 Germantown Ave\, Philadelphia\, PA\, 19144\, United States
CATEGORIES:Germantown
END:VEVENT
BEGIN:VEVENT
DTSTART;TZID=America/New_York:20241009T190000
DTEND;TZID=America/New_York:20241009T190000
DTSTAMP:20260422T170710
CREATED:20241007T183051Z
LAST-MODIFIED:20241008T140914Z
UID:10000759-1728500400-1728500400@settlementmusic.org
SUMMARY:Music for People Performance Ensemble Concert
DESCRIPTION:
URL:https://settlementmusic.org/event/music-for-people-performance-ensemble-concert/
LOCATION:Willow Grove Branch\, 318 Davisville Road\, Willow Grove\, PA\, 19090\, United States
CATEGORIES:Concert,Willow Grove
ATTACH;FMTTYPE=image/png:https://settlementmusic.org/app/uploads/2024/10/MfP-ensemble-concert-10.9.24.png
END:VEVENT
BEGIN:VEVENT
DTSTART;TZID=America/New_York:20241015T190000
DTEND;TZID=America/New_York:20241015T190000
DTSTAMP:20260422T170710
CREATED:20240729T174427Z
LAST-MODIFIED:20241015T181655Z
UID:10000678-1729018800-1729018800@settlementmusic.org
SUMMARY:Jazz Bridge Community Concert - Raimundo Santos
DESCRIPTION:
URL:https://settlementmusic.org/event/jazz-bridge-community-concert-artist-tba/
LOCATION:Benoliel-Germantown Branch\, 6128 Germantown Ave\, Philadelphia\, PA\, 19144\, United States
CATEGORIES:Germantown
END:VEVENT
BEGIN:VEVENT
DTSTART;TZID=America/New_York:20241027T130000
DTEND;TZID=America/New_York:20241027T130000
DTSTAMP:20260422T170710
CREATED:20240729T174949Z
LAST-MODIFIED:20241017T194014Z
UID:10000712-1730034000-1730034000@settlementmusic.org
SUMMARY:Karin Fuller Capanna Faculty Concert
DESCRIPTION:
URL:https://settlementmusic.org/event/karin-fuller-capanna-faculty-concert/
LOCATION:Mary Louise Curtis Branch\, 416 Queen St.\, Philadelphia\, PA\, 19147\, United States
CATEGORIES:Mary Louise Curtis
ATTACH;FMTTYPE=image/png:https://settlementmusic.org/app/uploads/2024/07/KFC-concert-flyer-w-photosV2A-scaled.png
END:VEVENT
BEGIN:VEVENT
DTSTART;TZID=America/New_York:20241027T140000
DTEND;TZID=America/New_York:20241027T153000
DTSTAMP:20260422T170710
CREATED:20240927T191726Z
LAST-MODIFIED:20240927T191726Z
UID:10000754-1730037600-1730043000@settlementmusic.org
SUMMARY:PMAY Artists Recital
DESCRIPTION:
URL:https://settlementmusic.org/event/pmay-artists-recital/
LOCATION:Woodmere Art Museum\, 9201 Germantown Avenue\, Philadelphia\, PA\, 19118\, United States
CATEGORIES:Concert
ORGANIZER;CN="PMAY Artists' Initiative":MAILTO:najib.wong@pmayartists.org
END:VEVENT
END:VCALENDAR