BEGIN:VCALENDAR
VERSION:2.0
PRODID:-//Settlement Music School - ECPv6.15.12.2//NONSGML v1.0//EN
CALSCALE:GREGORIAN
METHOD:PUBLISH
X-WR-CALNAME:Settlement Music School
X-ORIGINAL-URL:https://settlementmusic.org
X-WR-CALDESC:Events for Settlement Music School
REFRESH-INTERVAL;VALUE=DURATION:PT1H
X-Robots-Tag:noindex
X-PUBLISHED-TTL:PT1H
BEGIN:VTIMEZONE
TZID:America/New_York
BEGIN:DAYLIGHT
TZOFFSETFROM:-0500
TZOFFSETTO:-0400
TZNAME:EDT
DTSTART:20230312T070000
END:DAYLIGHT
BEGIN:STANDARD
TZOFFSETFROM:-0400
TZOFFSETTO:-0500
TZNAME:EST
DTSTART:20231105T060000
END:STANDARD
BEGIN:DAYLIGHT
TZOFFSETFROM:-0500
TZOFFSETTO:-0400
TZNAME:EDT
DTSTART:20240310T070000
END:DAYLIGHT
BEGIN:STANDARD
TZOFFSETFROM:-0400
TZOFFSETTO:-0500
TZNAME:EST
DTSTART:20241103T060000
END:STANDARD
BEGIN:DAYLIGHT
TZOFFSETFROM:-0500
TZOFFSETTO:-0400
TZNAME:EDT
DTSTART:20250309T070000
END:DAYLIGHT
BEGIN:STANDARD
TZOFFSETFROM:-0400
TZOFFSETTO:-0500
TZNAME:EST
DTSTART:20251102T060000
END:STANDARD
END:VTIMEZONE
BEGIN:VEVENT
DTSTART;TZID=America/New_York:20241204T193000
DTEND;TZID=America/New_York:20241204T193000
DTSTAMP:20260422T142336
CREATED:20241121T152317Z
LAST-MODIFIED:20241121T155543Z
UID:10000771-1733340600-1733340600@settlementmusic.org
SUMMARY:Settlement Jazz Ensembles at Chris' Jazz Cafe
DESCRIPTION:
URL:https://settlementmusic.org/event/settlement-jazz-ensembles-at-chris-jazz-cafe/
LOCATION:Chris’ Jazz Cafe\, 1421 Sansom Street\, Philadelphia\, PA\, 19102\, United States
CATEGORIES:Concert
END:VEVENT
BEGIN:VEVENT
DTSTART;TZID=America/New_York:20241206T180000
DTEND;TZID=America/New_York:20241206T180000
DTSTAMP:20260422T142336
CREATED:20241031T171341Z
LAST-MODIFIED:20241125T232420Z
UID:10000762-1733508000-1733508000@settlementmusic.org
SUMMARY:Light Up the Night at Settlement
DESCRIPTION:
URL:https://settlementmusic.org/event/light-up-the-night-at-settlement/
LOCATION:Willow Grove Branch\, 318 Davisville Road\, Willow Grove\, PA\, 19090\, United States
CATEGORIES:Concert,Holidays,Willow Grove
ATTACH;FMTTYPE=image/png:https://settlementmusic.org/app/uploads/2024/10/light-up-the-night.png
END:VEVENT
BEGIN:VEVENT
DTSTART;TZID=America/New_York:20241207T193000
DTEND;TZID=America/New_York:20241207T193000
DTSTAMP:20260422T142336
CREATED:20240729T174536Z
LAST-MODIFIED:20240729T174536Z
UID:10000685-1733599800-1733599800@settlementmusic.org
SUMMARY:Network for New Music Concert
DESCRIPTION:
URL:https://settlementmusic.org/event/network-for-new-music-concert-2/
LOCATION:Benoliel-Germantown Branch\, 6128 Germantown Ave\, Philadelphia\, PA\, 19144\, United States
CATEGORIES:Germantown
END:VEVENT
BEGIN:VEVENT
DTSTART;TZID=America/New_York:20241211T170000
DTEND;TZID=America/New_York:20241211T180000
DTSTAMP:20260422T142336
CREATED:20241111T194234Z
LAST-MODIFIED:20241211T002431Z
UID:10000763-1733936400-1733940000@settlementmusic.org
SUMMARY:Gleeksman Kohn Children's Choir & Music Education Pathways Choir at the Philadelphia Christmas Village - MOVED TO MARY LOUISE CURTIS BRANCH
DESCRIPTION:
URL:https://settlementmusic.org/event/gleeksman-kohn-childrens-choir-music-education-pathways-choir-at-the-philadelphia-christmas-village/
LOCATION:Mary Louise Curtis Branch\, 416 Queen St.\, Philadelphia\, PA\, 19147\, United States
CATEGORIES:Concert,Mary Louise Curtis
ATTACH;FMTTYPE=image/png:https://settlementmusic.org/app/uploads/2023/09/gleeksman-kohn-childrens-choir.png
END:VEVENT
BEGIN:VEVENT
DTSTART;TZID=America/New_York:20241211T190000
DTEND;TZID=America/New_York:20241211T190000
DTSTAMP:20260422T142336
CREATED:20241113T211117Z
LAST-MODIFIED:20241120T154046Z
UID:10000767-1733943600-1733943600@settlementmusic.org
SUMMARY:The Kardon Rock Band Holiday Concert
DESCRIPTION:
URL:https://settlementmusic.org/event/kardon-rock-band-concert/
LOCATION:Kardon-Northeast Branch\, 3745 Clarendon Avenue\, Philadelphia\, PA\, 19114\, United States
CATEGORIES:Concert,Holidays,Kardon-Northeast
ATTACH;FMTTYPE=image/png:https://settlementmusic.org/app/uploads/2024/11/KCAT-Holiday-Rock-Band-FlyerV1A.png
END:VEVENT
BEGIN:VEVENT
DTSTART;TZID=America/New_York:20241212T190000
DTEND;TZID=America/New_York:20241212T190000
DTSTAMP:20260422T142336
CREATED:20241121T150908Z
LAST-MODIFIED:20241121T150908Z
UID:10000769-1734030000-1734030000@settlementmusic.org
SUMMARY:Wynnefield Branch Studio Guitar Recital
DESCRIPTION:
URL:https://settlementmusic.org/event/wynnefield-branch-studio-guitar-recital/
LOCATION:Wynnefield Branch\, 4910 Wynnefield Avenue\, Philadelphia\, PA\, 19131\, United States
CATEGORIES:Concert,Wynnefield
END:VEVENT
BEGIN:VEVENT
DTSTART;TZID=America/New_York:20241214T110000
DTEND;TZID=America/New_York:20241214T110000
DTSTAMP:20260422T142336
CREATED:20241112T163900Z
LAST-MODIFIED:20241204T191838Z
UID:10000766-1734174000-1734174000@settlementmusic.org
SUMMARY:Kardon-Northeast 50th Anniversary Celebration
DESCRIPTION:
URL:https://settlementmusic.org/event/kardon-northeast-50th-anniversary-celebration/
LOCATION:Kardon-Northeast Branch\, 3745 Clarendon Avenue\, Philadelphia\, PA\, 19114\, United States
CATEGORIES:Concert,Kardon-Northeast
ATTACH;FMTTYPE=image/png:https://settlementmusic.org/app/uploads/2024/11/KNE-50th-Flyer.png
END:VEVENT
BEGIN:VEVENT
DTSTART;TZID=America/New_York:20241215T150000
DTEND;TZID=America/New_York:20241215T150000
DTSTAMP:20260422T142336
CREATED:20240729T174549Z
LAST-MODIFIED:20241206T181608Z
UID:10000687-1734274800-1734274800@settlementmusic.org
SUMMARY:Tapestry Strings Group Concert
DESCRIPTION:
URL:https://settlementmusic.org/event/tapestry-strings-group-concert-2/
LOCATION:Benoliel-Germantown Branch\, 6128 Germantown Ave\, Philadelphia\, PA\, 19144\, United States
CATEGORIES:Germantown
ATTACH;FMTTYPE=image/jpeg:https://settlementmusic.org/app/uploads/2024/07/Tapestry-Strings.jpg
END:VEVENT
BEGIN:VEVENT
DTSTART;TZID=America/New_York:20241217T190000
DTEND;TZID=America/New_York:20241217T190000
DTSTAMP:20260422T142336
CREATED:20240729T173624Z
LAST-MODIFIED:20241206T181629Z
UID:10000631-1734462000-1734462000@settlementmusic.org
SUMMARY:Winter Chamber Music Concert & Hot Cocoa Social
DESCRIPTION:
URL:https://settlementmusic.org/event/winter-chamber-music-concert-hot-cocoa-social/
LOCATION:Mary Louise Curtis Branch\, 416 Queen St.\, Philadelphia\, PA\, 19147\, United States
CATEGORIES:Mary Louise Curtis
ATTACH;FMTTYPE=image/png:https://settlementmusic.org/app/uploads/2024/07/Chamber-Hot-Cocoa.png
END:VEVENT
BEGIN:VEVENT
DTSTART;TZID=America/New_York:20241217T190000
DTEND;TZID=America/New_York:20241217T190000
DTSTAMP:20260422T142336
CREATED:20240729T174555Z
LAST-MODIFIED:20241015T181921Z
UID:10000688-1734462000-1734462000@settlementmusic.org
SUMMARY:Jazz Bridge Community Concert - Artist TBA
DESCRIPTION:
URL:https://settlementmusic.org/event/jazz-bridge-community-concert-artist-tba-3/
LOCATION:Benoliel-Germantown Branch\, 6128 Germantown Ave\, Philadelphia\, PA\, 19144\, United States
CATEGORIES:Germantown
END:VEVENT
BEGIN:VEVENT
DTSTART;TZID=America/New_York:20241217T190000
DTEND;TZID=America/New_York:20241217T190000
DTSTAMP:20260422T142336
CREATED:20241113T211124Z
LAST-MODIFIED:20241120T154224Z
UID:10000768-1734462000-1734462000@settlementmusic.org
SUMMARY:The Kardon Chorale Holiday Concert
DESCRIPTION:
URL:https://settlementmusic.org/event/kardon-choir-concert/
LOCATION:Kardon-Northeast Branch\, 3745 Clarendon Avenue\, Philadelphia\, PA\, 19114\, United States
CATEGORIES:Concert,Holidays,Kardon-Northeast
ATTACH;FMTTYPE=image/png:https://settlementmusic.org/app/uploads/2024/11/KCAT-Holiday-Choir-FlyerV1A.png
END:VEVENT
BEGIN:VEVENT
DTSTART;TZID=America/New_York:20241219T190000
DTEND;TZID=America/New_York:20241219T190000
DTSTAMP:20260422T142336
CREATED:20241121T151747Z
LAST-MODIFIED:20241121T151747Z
UID:10000770-1734634800-1734634800@settlementmusic.org
SUMMARY:Adult Jazz Ensemble Jam Night
DESCRIPTION:
URL:https://settlementmusic.org/event/adult-jazz-ensemble-jam-night/
LOCATION:Wynnefield Branch\, 4910 Wynnefield Avenue\, Philadelphia\, PA\, 19131\, United States
CATEGORIES:Concert,Wynnefield
END:VEVENT
END:VCALENDAR