BEGIN:VCALENDAR
VERSION:2.0
PRODID:-//Settlement Music School - ECPv6.15.12.2//NONSGML v1.0//EN
CALSCALE:GREGORIAN
METHOD:PUBLISH
X-WR-CALNAME:Settlement Music School
X-ORIGINAL-URL:https://settlementmusic.org
X-WR-CALDESC:Events for Settlement Music School
REFRESH-INTERVAL;VALUE=DURATION:PT1H
X-Robots-Tag:noindex
X-PUBLISHED-TTL:PT1H
BEGIN:VTIMEZONE
TZID:America/New_York
BEGIN:DAYLIGHT
TZOFFSETFROM:-0500
TZOFFSETTO:-0400
TZNAME:EDT
DTSTART:20220313T070000
END:DAYLIGHT
BEGIN:STANDARD
TZOFFSETFROM:-0400
TZOFFSETTO:-0500
TZNAME:EST
DTSTART:20221106T060000
END:STANDARD
BEGIN:DAYLIGHT
TZOFFSETFROM:-0500
TZOFFSETTO:-0400
TZNAME:EDT
DTSTART:20230312T070000
END:DAYLIGHT
BEGIN:STANDARD
TZOFFSETFROM:-0400
TZOFFSETTO:-0500
TZNAME:EST
DTSTART:20231105T060000
END:STANDARD
BEGIN:DAYLIGHT
TZOFFSETFROM:-0500
TZOFFSETTO:-0400
TZNAME:EDT
DTSTART:20240310T070000
END:DAYLIGHT
BEGIN:STANDARD
TZOFFSETFROM:-0400
TZOFFSETTO:-0500
TZNAME:EST
DTSTART:20241103T060000
END:STANDARD
END:VTIMEZONE
BEGIN:VEVENT
DTSTART;TZID=America/New_York:20231017T180000
DTEND;TZID=America/New_York:20231017T200000
DTSTAMP:20260423T142605
CREATED:20230920T190711Z
LAST-MODIFIED:20230920T190711Z
UID:10000024-1697565600-1697572800@settlementmusic.org
SUMMARY:PMAY Masterclass: Carlos Rubio\, Violin
DESCRIPTION:
URL:https://settlementmusic.org/event/pmay-masterclass-carlos-rubio-violin/
LOCATION:Mary Louise Curtis Branch\, 416 Queen St.\, Philadelphia\, PA\, 19147\, United States
CATEGORIES:Mary Louise Curtis,Students & Parents
ORGANIZER;CN="PMAY Artists' Initiative":MAILTO:najib.wong@pmayartists.org
END:VEVENT
BEGIN:VEVENT
DTSTART;TZID=America/New_York:20231020T180000
DTEND;TZID=America/New_York:20231020T200000
DTSTAMP:20260423T142605
CREATED:20231004T170704Z
LAST-MODIFIED:20231004T170704Z
UID:10000161-1697824800-1697832000@settlementmusic.org
SUMMARY:Friday Night Unwind: A Community Concert in Willow Grove
DESCRIPTION:
URL:https://settlementmusic.org/event/friday-night-unwind-a-community-concert-in-willow-grove/
LOCATION:Willow Grove Branch\, 318 Davisville Road\, Willow Grove\, PA\, 19090\, United States
CATEGORIES:Concert,Willow Grove
ATTACH;FMTTYPE=image/png:https://settlementmusic.org/app/uploads/2023/10/FNUBanner.png
END:VEVENT
END:VCALENDAR