BEGIN:VCALENDAR
VERSION:2.0
PRODID:-//Settlement Music School - ECPv6.15.12.2//NONSGML v1.0//EN
CALSCALE:GREGORIAN
METHOD:PUBLISH
X-ORIGINAL-URL:https://settlementmusic.org
X-WR-CALDESC:Events for Settlement Music School
REFRESH-INTERVAL;VALUE=DURATION:PT1H
X-Robots-Tag:noindex
X-PUBLISHED-TTL:PT1H
BEGIN:VTIMEZONE
TZID:America/New_York
BEGIN:DAYLIGHT
TZOFFSETFROM:-0500
TZOFFSETTO:-0400
TZNAME:EDT
DTSTART:20230312T070000
END:DAYLIGHT
BEGIN:STANDARD
TZOFFSETFROM:-0400
TZOFFSETTO:-0500
TZNAME:EST
DTSTART:20231105T060000
END:STANDARD
BEGIN:DAYLIGHT
TZOFFSETFROM:-0500
TZOFFSETTO:-0400
TZNAME:EDT
DTSTART:20240310T070000
END:DAYLIGHT
BEGIN:STANDARD
TZOFFSETFROM:-0400
TZOFFSETTO:-0500
TZNAME:EST
DTSTART:20241103T060000
END:STANDARD
BEGIN:DAYLIGHT
TZOFFSETFROM:-0500
TZOFFSETTO:-0400
TZNAME:EDT
DTSTART:20250309T070000
END:DAYLIGHT
BEGIN:STANDARD
TZOFFSETFROM:-0400
TZOFFSETTO:-0500
TZNAME:EST
DTSTART:20251102T060000
END:STANDARD
END:VTIMEZONE
BEGIN:VEVENT
DTSTART;TZID=America/New_York:20240513T183000
DTEND;TZID=America/New_York:20240513T193000
DTSTAMP:20260423T025625
CREATED:20240509T210352Z
LAST-MODIFIED:20240509T210352Z
UID:10000197-1715625000-1715628600@settlementmusic.org
SUMMARY:Russell Klein Studio Recital
DESCRIPTION:
URL:https://settlementmusic.org/event/russell-klein-studio-recital-2/
LOCATION:Kardon-Northeast Branch\, 3745 Clarendon Avenue\, Philadelphia\, PA\, 19114\, United States
CATEGORIES:Concert,Kardon-Northeast
END:VEVENT
BEGIN:VEVENT
DTSTART;TZID=America/New_York:20240519T150000
DTEND;TZID=America/New_York:20240519T150000
DTSTAMP:20260423T025625
CREATED:20231002T165655Z
LAST-MODIFIED:20240103T201311Z
UID:10000101-1716130800-1716130800@settlementmusic.org
SUMMARY:Tapestry Strings Group Concert
DESCRIPTION:
URL:https://settlementmusic.org/event/tapestry-strings-group-concert/
LOCATION:Mary Louise Curtis Branch\, 416 Queen St.\, Philadelphia\, PA\, 19147\, United States
CATEGORIES:Mary Louise Curtis
END:VEVENT
BEGIN:VEVENT
DTSTART;TZID=America/New_York:20240519T170000
DTEND;TZID=America/New_York:20240519T170000
DTSTAMP:20260423T025625
CREATED:20231002T164634Z
LAST-MODIFIED:20240227T214237Z
UID:10000061-1716138000-1716138000@settlementmusic.org
SUMMARY:Gleeksman-Kohn Children's Choir Concert
DESCRIPTION:
URL:https://settlementmusic.org/event/gleeksman-kohn-childrens-choir-winter-concert/
LOCATION:Benoliel-Germantown Branch\, 6128 Germantown Ave\, Philadelphia\, PA\, 19144\, United States
CATEGORIES:Germantown
ATTACH;FMTTYPE=image/png:https://settlementmusic.org/app/uploads/2023/10/GKCC-15-X2.png
END:VEVENT
END:VCALENDAR