BEGIN:VCALENDAR
VERSION:2.0
PRODID:-//Settlement Music School - ECPv6.15.12.2//NONSGML v1.0//EN
CALSCALE:GREGORIAN
METHOD:PUBLISH
X-ORIGINAL-URL:https://settlementmusic.org
X-WR-CALDESC:Events for Settlement Music School
REFRESH-INTERVAL;VALUE=DURATION:PT1H
X-Robots-Tag:noindex
X-PUBLISHED-TTL:PT1H
BEGIN:VTIMEZONE
TZID:America/New_York
BEGIN:DAYLIGHT
TZOFFSETFROM:-0500
TZOFFSETTO:-0400
TZNAME:EDT
DTSTART:20250309T070000
END:DAYLIGHT
BEGIN:STANDARD
TZOFFSETFROM:-0400
TZOFFSETTO:-0500
TZNAME:EST
DTSTART:20251102T060000
END:STANDARD
BEGIN:DAYLIGHT
TZOFFSETFROM:-0500
TZOFFSETTO:-0400
TZNAME:EDT
DTSTART:20260308T070000
END:DAYLIGHT
BEGIN:STANDARD
TZOFFSETFROM:-0400
TZOFFSETTO:-0500
TZNAME:EST
DTSTART:20261101T060000
END:STANDARD
BEGIN:DAYLIGHT
TZOFFSETFROM:-0500
TZOFFSETTO:-0400
TZNAME:EDT
DTSTART:20270314T070000
END:DAYLIGHT
BEGIN:STANDARD
TZOFFSETFROM:-0400
TZOFFSETTO:-0500
TZNAME:EST
DTSTART:20271107T060000
END:STANDARD
END:VTIMEZONE
BEGIN:VEVENT
DTSTART;TZID=America/New_York:20260207T100000
DTEND;TZID=America/New_York:20260207T100000
DTSTAMP:20260421T161012
CREATED:20250826T195517Z
LAST-MODIFIED:20250826T195517Z
UID:10000979-1770458400-1770458400@settlementmusic.org
SUMMARY:Performance Hour (Willow Grove)
DESCRIPTION:
URL:https://settlementmusic.org/event/performance-hour-willow-grove-26/
LOCATION:Willow Grove Branch\, 318 Davisville Road\, Willow Grove\, PA\, 19090\, United States
CATEGORIES:Willow Grove
END:VEVENT
BEGIN:VEVENT
DTSTART;TZID=America/New_York:20260207T110000
DTEND;TZID=America/New_York:20260207T110000
DTSTAMP:20260421T161012
CREATED:20250826T194856Z
LAST-MODIFIED:20250826T194856Z
UID:10000963-1770462000-1770462000@settlementmusic.org
SUMMARY:Unaccompanied Performance Hour (Online)
DESCRIPTION:
URL:https://settlementmusic.org/event/unaccompanied-performance-hour-online-2/
LOCATION:Settlement Music Online
CATEGORIES:Settlement Music Online
END:VEVENT
BEGIN:VEVENT
DTSTART;TZID=America/New_York:20260207T130000
DTEND;TZID=America/New_York:20260207T130000
DTSTAMP:20260421T161012
CREATED:20250826T194545Z
LAST-MODIFIED:20250826T194545Z
UID:10000925-1770469200-1770469200@settlementmusic.org
SUMMARY:Accompanied Performance Hour (Mary Louise Curtis)
DESCRIPTION:
URL:https://settlementmusic.org/event/accompanied-performance-hour-mary-louise-curtis-32/
LOCATION:Mary Louise Curtis Branch\, 416 Queen St.\, Philadelphia\, PA\, 19147\, United States
CATEGORIES:Mary Louise Curtis
END:VEVENT
BEGIN:VEVENT
DTSTART;TZID=America/New_York:20260211T190000
DTEND;TZID=America/New_York:20260211T200000
DTSTAMP:20260421T161012
CREATED:20260203T172428Z
LAST-MODIFIED:20260203T172428Z
UID:10001035-1770836400-1770840000@settlementmusic.org
SUMMARY:Bring Your Valentine: Pop Up Adult Jazz Ensemble Concert
DESCRIPTION:
URL:https://settlementmusic.org/event/bring-your-valentine-pop-up-adult-jazz-ensemble-concert/
LOCATION:Wynnefield Branch\, 4910 Wynnefield Avenue\, Philadelphia\, PA\, 19131\, United States
CATEGORIES:Wynnefield
END:VEVENT
BEGIN:VEVENT
DTSTART;TZID=America/New_York:20260212T190000
DTEND;TZID=America/New_York:20260212T190000
DTSTAMP:20260421T161012
CREATED:20260107T163934Z
LAST-MODIFIED:20260107T163934Z
UID:10001032-1770922800-1770922800@settlementmusic.org
SUMMARY:Adult Salon
DESCRIPTION:
URL:https://settlementmusic.org/event/adult-salon/
LOCATION:Mary Louise Curtis Branch\, 416 Queen St.\, Philadelphia\, PA\, 19147\, United States
CATEGORIES:Mary Louise Curtis
END:VEVENT
BEGIN:VEVENT
DTSTART;TZID=America/New_York:20260213T180000
DTEND;TZID=America/New_York:20260213T180000
DTSTAMP:20260421T161012
CREATED:20260116T210349Z
LAST-MODIFIED:20260116T210545Z
UID:10001034-1771005600-1771005600@settlementmusic.org
SUMMARY:Hearts for the Arts in Willow Grove
DESCRIPTION:
URL:https://settlementmusic.org/event/hearts-for-the-arts-in-willow-grove/
LOCATION:Willow Grove Branch\, 318 Davisville Road\, Willow Grove\, PA\, 19090\, United States
CATEGORIES:Concert,Holiday,Holidays,Willow Grove
END:VEVENT
BEGIN:VEVENT
DTSTART;TZID=America/New_York:20260214T100000
DTEND;TZID=America/New_York:20260214T100000
DTSTAMP:20260421T161012
CREATED:20250826T190654Z
LAST-MODIFIED:20250827T162844Z
UID:10000890-1771063200-1771063200@settlementmusic.org
SUMMARY:Performance Hour (Kardon-Northeast)
DESCRIPTION:
URL:https://settlementmusic.org/event/performance-hour-kardon-northeast-19/
LOCATION:Kardon-Northeast Branch\, 3745 Clarendon Avenue\, Philadelphia\, PA\, 19114\, United States
CATEGORIES:Kardon-Northeast
END:VEVENT
BEGIN:VEVENT
DTSTART;TZID=America/New_York:20260214T110000
DTEND;TZID=America/New_York:20260214T110000
DTSTAMP:20260421T161012
CREATED:20250827T161557Z
LAST-MODIFIED:20250827T161557Z
UID:10000993-1771066800-1771066800@settlementmusic.org
SUMMARY:Performance Hour (Wynnefield)
DESCRIPTION:
URL:https://settlementmusic.org/event/performance-hour-wynnefield-31/
LOCATION:Wynnefield Branch\, 4910 Wynnefield Avenue\, Philadelphia\, PA\, 19131\, United States
CATEGORIES:Wynnefield
END:VEVENT
BEGIN:VEVENT
DTSTART;TZID=America/New_York:20260214T150000
DTEND;TZID=America/New_York:20260214T150000
DTSTAMP:20260421T161012
CREATED:20260107T164115Z
LAST-MODIFIED:20260107T164115Z
UID:10001033-1771081200-1771081200@settlementmusic.org
SUMMARY:Kamarady Quintet Chamber Concert
DESCRIPTION:
URL:https://settlementmusic.org/event/kamarady-quintet-chamber-concert/
LOCATION:Mary Louise Curtis Branch\, 416 Queen St.\, Philadelphia\, PA\, 19147\, United States
CATEGORIES:Concert,Mary Louise Curtis
END:VEVENT
BEGIN:VEVENT
DTSTART;TZID=America/New_York:20260216T190000
DTEND;TZID=America/New_York:20260216T190000
DTSTAMP:20260421T161012
CREATED:20250826T191458Z
LAST-MODIFIED:20250826T191458Z
UID:10000911-1771268400-1771268400@settlementmusic.org
SUMMARY:Unaccompanied Performance Hour (Mary Louise Curtis)
DESCRIPTION:
URL:https://settlementmusic.org/event/unaccompanied-performance-hour-mary-louise-curtis-34/
LOCATION:Mary Louise Curtis Branch\, 416 Queen St.\, Philadelphia\, PA\, 19147\, United States
CATEGORIES:Mary Louise Curtis
END:VEVENT
BEGIN:VEVENT
DTSTART;TZID=America/New_York:20260216T193000
DTEND;TZID=America/New_York:20260216T193000
DTSTAMP:20260421T161012
CREATED:20250826T195722Z
LAST-MODIFIED:20250826T195722Z
UID:10000985-1771270200-1771270200@settlementmusic.org
SUMMARY:Performance Hour (Wynnefield)
DESCRIPTION:
URL:https://settlementmusic.org/event/performance-hour-wynnefield-27/
LOCATION:Wynnefield Branch\, 4910 Wynnefield Avenue\, Philadelphia\, PA\, 19131\, United States
CATEGORIES:Wynnefield
END:VEVENT
BEGIN:VEVENT
DTSTART;TZID=America/New_York:20260218T190000
DTEND;TZID=America/New_York:20260218T190000
DTSTAMP:20260421T161012
CREATED:20250826T191102Z
LAST-MODIFIED:20250827T162854Z
UID:10000902-1771441200-1771441200@settlementmusic.org
SUMMARY:Evening Performance Hour (Kardon-Northeast)
DESCRIPTION:
URL:https://settlementmusic.org/event/evening-performance-hour-kardon-northeast/
LOCATION:Kardon-Northeast Branch\, 3745 Clarendon Avenue\, Philadelphia\, PA\, 19114\, United States
CATEGORIES:Kardon-Northeast
END:VEVENT
BEGIN:VEVENT
DTSTART;TZID=America/New_York:20260221T100000
DTEND;TZID=America/New_York:20260221T100000
DTSTAMP:20260421T161012
CREATED:20250826T190301Z
LAST-MODIFIED:20250826T190301Z
UID:10000875-1771668000-1771668000@settlementmusic.org
SUMMARY:Performance Hour (Benoliel-Germantown)
DESCRIPTION:
URL:https://settlementmusic.org/event/performance-hour-benoliel-germantown-3/
LOCATION:Benoliel-Germantown Branch\, 6128 Germantown Ave\, Philadelphia\, PA\, 19144\, United States
CATEGORIES:Germantown
END:VEVENT
BEGIN:VEVENT
DTSTART;TZID=America/New_York:20260221T130000
DTEND;TZID=America/New_York:20260221T130000
DTSTAMP:20260421T161012
CREATED:20250826T194541Z
LAST-MODIFIED:20250826T194541Z
UID:10000924-1771678800-1771678800@settlementmusic.org
SUMMARY:Accompanied Performance Hour (Mary Louise Curtis)
DESCRIPTION:
URL:https://settlementmusic.org/event/accompanied-performance-hour-mary-louise-curtis-31/
LOCATION:Mary Louise Curtis Branch\, 416 Queen St.\, Philadelphia\, PA\, 19147\, United States
CATEGORIES:Mary Louise Curtis
END:VEVENT
BEGIN:VEVENT
DTSTART;TZID=America/New_York:20260221T180000
DTEND;TZID=America/New_York:20260221T210000
DTSTAMP:20260421T161012
CREATED:20250925T192807Z
LAST-MODIFIED:20260206T195128Z
UID:10001012-1771696800-1771707600@settlementmusic.org
SUMMARY:PMAY Annual Showcase Concert
DESCRIPTION:
URL:https://settlementmusic.org/event/pmay-annual-showcase-concert-2/
LOCATION:Mary Louise Curtis Branch\, 416 Queen St.\, Philadelphia\, PA\, 19147\, United States
CATEGORIES:Concert,Mary Louise Curtis
ATTACH;FMTTYPE=image/jpeg:https://settlementmusic.org/app/uploads/2025/09/PMAYShowcase2025.jpg
ORGANIZER;CN="PMAY Artists' Initiative":MAILTO:najib.wong@pmayartists.org
END:VEVENT
END:VCALENDAR