BEGIN:VCALENDAR
VERSION:2.0
PRODID:-//Settlement Music School - ECPv6.15.12.2//NONSGML v1.0//EN
CALSCALE:GREGORIAN
METHOD:PUBLISH
X-WR-CALNAME:Settlement Music School
X-ORIGINAL-URL:https://settlementmusic.org
X-WR-CALDESC:Events for Settlement Music School
REFRESH-INTERVAL;VALUE=DURATION:PT1H
X-Robots-Tag:noindex
X-PUBLISHED-TTL:PT1H
BEGIN:VTIMEZONE
TZID:America/New_York
BEGIN:DAYLIGHT
TZOFFSETFROM:-0500
TZOFFSETTO:-0400
TZNAME:EDT
DTSTART:20250309T070000
END:DAYLIGHT
BEGIN:STANDARD
TZOFFSETFROM:-0400
TZOFFSETTO:-0500
TZNAME:EST
DTSTART:20251102T060000
END:STANDARD
BEGIN:DAYLIGHT
TZOFFSETFROM:-0500
TZOFFSETTO:-0400
TZNAME:EDT
DTSTART:20260308T070000
END:DAYLIGHT
BEGIN:STANDARD
TZOFFSETFROM:-0400
TZOFFSETTO:-0500
TZNAME:EST
DTSTART:20261101T060000
END:STANDARD
BEGIN:DAYLIGHT
TZOFFSETFROM:-0500
TZOFFSETTO:-0400
TZNAME:EDT
DTSTART:20270314T070000
END:DAYLIGHT
BEGIN:STANDARD
TZOFFSETFROM:-0400
TZOFFSETTO:-0500
TZNAME:EST
DTSTART:20271107T060000
END:STANDARD
END:VTIMEZONE
BEGIN:VEVENT
DTSTART;TZID=America/New_York:20260207T150000
DTEND;TZID=America/New_York:20260207T150000
DTSTAMP:20260421T161009
CREATED:20250826T194547Z
LAST-MODIFIED:20250826T194547Z
UID:10000926-1770476400-1770476400@settlementmusic.org
SUMMARY:Student Recital (Mary Louise Curtis)
DESCRIPTION:
URL:https://settlementmusic.org/event/student-recital-mary-louise-curtis-18/
LOCATION:Mary Louise Curtis Branch\, 416 Queen St.\, Philadelphia\, PA\, 19147\, United States
CATEGORIES:Mary Louise Curtis
END:VEVENT
BEGIN:VEVENT
DTSTART;TZID=America/New_York:20260212T190000
DTEND;TZID=America/New_York:20260212T190000
DTSTAMP:20260421T161009
CREATED:20260107T163934Z
LAST-MODIFIED:20260107T163934Z
UID:10001032-1770922800-1770922800@settlementmusic.org
SUMMARY:Adult Salon
DESCRIPTION:
URL:https://settlementmusic.org/event/adult-salon/
LOCATION:Mary Louise Curtis Branch\, 416 Queen St.\, Philadelphia\, PA\, 19147\, United States
CATEGORIES:Mary Louise Curtis
END:VEVENT
BEGIN:VEVENT
DTSTART;TZID=America/New_York:20260214T150000
DTEND;TZID=America/New_York:20260214T150000
DTSTAMP:20260421T161009
CREATED:20260107T164115Z
LAST-MODIFIED:20260107T164115Z
UID:10001033-1771081200-1771081200@settlementmusic.org
SUMMARY:Kamarady Quintet Chamber Concert
DESCRIPTION:
URL:https://settlementmusic.org/event/kamarady-quintet-chamber-concert/
LOCATION:Mary Louise Curtis Branch\, 416 Queen St.\, Philadelphia\, PA\, 19147\, United States
CATEGORIES:Concert,Mary Louise Curtis
END:VEVENT
BEGIN:VEVENT
DTSTART;TZID=America/New_York:20260220T190000
DTEND;TZID=America/New_York:20260220T190000
DTSTAMP:20260421T161009
CREATED:20250826T194920Z
LAST-MODIFIED:20250826T194920Z
UID:10000968-1771614000-1771614000@settlementmusic.org
SUMMARY:Student Recital (Willow Grove)
DESCRIPTION:
URL:https://settlementmusic.org/event/student-recital-willow-grove-20/
LOCATION:Willow Grove Branch\, 318 Davisville Road\, Willow Grove\, PA\, 19090\, United States
CATEGORIES:Willow Grove
END:VEVENT
BEGIN:VEVENT
DTSTART;TZID=America/New_York:20260221T180000
DTEND;TZID=America/New_York:20260221T210000
DTSTAMP:20260421T161009
CREATED:20250925T192807Z
LAST-MODIFIED:20260206T195128Z
UID:10001012-1771696800-1771707600@settlementmusic.org
SUMMARY:PMAY Annual Showcase Concert
DESCRIPTION:
URL:https://settlementmusic.org/event/pmay-annual-showcase-concert-2/
LOCATION:Mary Louise Curtis Branch\, 416 Queen St.\, Philadelphia\, PA\, 19147\, United States
CATEGORIES:Concert,Mary Louise Curtis
ATTACH;FMTTYPE=image/jpeg:https://settlementmusic.org/app/uploads/2025/09/PMAYShowcase2025.jpg
ORGANIZER;CN="PMAY Artists' Initiative":MAILTO:najib.wong@pmayartists.org
END:VEVENT
BEGIN:VEVENT
DTSTART;TZID=America/New_York:20260222T130000
DTEND;TZID=America/New_York:20260222T130000
DTSTAMP:20260421T161009
CREATED:20260216T192845Z
LAST-MODIFIED:20260216T192845Z
UID:10001040-1771765200-1771765200@settlementmusic.org
SUMMARY:Tapestry - Solo Recital
DESCRIPTION:
URL:https://settlementmusic.org/event/tapestry-solo-recital-3/
LOCATION:Wynnefield Branch\, 4910 Wynnefield Avenue\, Philadelphia\, PA\, 19131\, United States
CATEGORIES:Wynnefield
ATTACH;FMTTYPE=image/jpeg:https://settlementmusic.org/app/uploads/2024/07/Tapestry-Strings.jpg
END:VEVENT
BEGIN:VEVENT
DTSTART;TZID=America/New_York:20260222T143000
DTEND;TZID=America/New_York:20260222T143000
DTSTAMP:20260421T161009
CREATED:20250827T161631Z
LAST-MODIFIED:20251204T203737Z
UID:10001000-1771770600-1771770600@settlementmusic.org
SUMMARY:Tapestry - Solo Recital
DESCRIPTION:
URL:https://settlementmusic.org/event/tapestry-solo-recital/
LOCATION:Wynnefield Branch\, 4910 Wynnefield Avenue\, Philadelphia\, PA\, 19131\, United States
CATEGORIES:Wynnefield
ATTACH;FMTTYPE=image/jpeg:https://settlementmusic.org/app/uploads/2024/07/Tapestry-Strings.jpg
END:VEVENT
BEGIN:VEVENT
DTSTART;TZID=America/New_York:20260222T160000
DTEND;TZID=America/New_York:20260222T160000
DTSTAMP:20260421T161009
CREATED:20250827T161633Z
LAST-MODIFIED:20251204T203710Z
UID:10001001-1771776000-1771776000@settlementmusic.org
SUMMARY:Tapestry - Solo Recital
DESCRIPTION:
URL:https://settlementmusic.org/event/tapestry-solo-recital-2/
LOCATION:Wynnefield Branch\, 4910 Wynnefield Avenue\, Philadelphia\, PA\, 19131\, United States
CATEGORIES:Wynnefield
ATTACH;FMTTYPE=image/jpeg:https://settlementmusic.org/app/uploads/2024/07/Tapestry-Strings.jpg
END:VEVENT
END:VCALENDAR