BEGIN:VCALENDAR
VERSION:2.0
PRODID:-//Settlement Music School - ECPv6.15.12.2//NONSGML v1.0//EN
CALSCALE:GREGORIAN
METHOD:PUBLISH
X-WR-CALNAME:Settlement Music School
X-ORIGINAL-URL:https://settlementmusic.org
X-WR-CALDESC:Events for Settlement Music School
REFRESH-INTERVAL;VALUE=DURATION:PT1H
X-Robots-Tag:noindex
X-PUBLISHED-TTL:PT1H
BEGIN:VTIMEZONE
TZID:America/New_York
BEGIN:DAYLIGHT
TZOFFSETFROM:-0500
TZOFFSETTO:-0400
TZNAME:EDT
DTSTART:20220313T070000
END:DAYLIGHT
BEGIN:STANDARD
TZOFFSETFROM:-0400
TZOFFSETTO:-0500
TZNAME:EST
DTSTART:20221106T060000
END:STANDARD
BEGIN:DAYLIGHT
TZOFFSETFROM:-0500
TZOFFSETTO:-0400
TZNAME:EDT
DTSTART:20230312T070000
END:DAYLIGHT
BEGIN:STANDARD
TZOFFSETFROM:-0400
TZOFFSETTO:-0500
TZNAME:EST
DTSTART:20231105T060000
END:STANDARD
BEGIN:DAYLIGHT
TZOFFSETFROM:-0500
TZOFFSETTO:-0400
TZNAME:EDT
DTSTART:20240310T070000
END:DAYLIGHT
BEGIN:STANDARD
TZOFFSETFROM:-0400
TZOFFSETTO:-0500
TZNAME:EST
DTSTART:20241103T060000
END:STANDARD
END:VTIMEZONE
BEGIN:VEVENT
DTSTART;TZID=America/New_York:20231215T110000
DTEND;TZID=America/New_York:20231215T130000
DTSTAMP:20260424T220441
CREATED:20231009T172838Z
LAST-MODIFIED:20231009T172838Z
UID:10000162-1702638000-1702645200@settlementmusic.org
SUMMARY:Adult Orchestra Concert
DESCRIPTION:
URL:https://settlementmusic.org/event/adult-orchestra-concert/
LOCATION:Willow Grove Branch\, 318 Davisville Road\, Willow Grove\, PA\, 19090\, United States
CATEGORIES:Concert,Willow Grove
END:VEVENT
BEGIN:VEVENT
DTSTART;TZID=America/New_York:20231215T190000
DTEND;TZID=America/New_York:20231215T190000
DTSTAMP:20260424T220441
CREATED:20231002T164350Z
LAST-MODIFIED:20231002T164350Z
UID:10000052-1702666800-1702666800@settlementmusic.org
SUMMARY:Student Recital (Willow Grove)
DESCRIPTION:
URL:https://settlementmusic.org/event/student-recital-willow-grove-3/
LOCATION:Willow Grove Branch\, 318 Davisville Road\, Willow Grove\, PA\, 19090\, United States
CATEGORIES:Willow Grove
END:VEVENT
BEGIN:VEVENT
DTSTART;TZID=America/New_York:20231216T100000
DTEND;TZID=America/New_York:20231216T100000
DTSTAMP:20260424T220441
CREATED:20231002T162228Z
LAST-MODIFIED:20231002T162228Z
UID:10000027-1702720800-1702720800@settlementmusic.org
SUMMARY:Performance Hour (Germantown)
DESCRIPTION:
URL:https://settlementmusic.org/event/performance-hour-germantown-2/
LOCATION:Benoliel-Germantown Branch\, 6128 Germantown Ave\, Philadelphia\, PA\, 19144\, United States
CATEGORIES:Germantown
END:VEVENT
BEGIN:VEVENT
DTSTART;TZID=America/New_York:20231216T140000
DTEND;TZID=America/New_York:20231216T140000
DTSTAMP:20260424T220441
CREATED:20231002T162307Z
LAST-MODIFIED:20231002T162307Z
UID:10000028-1702735200-1702735200@settlementmusic.org
SUMMARY:Student Recital (Germantown)
DESCRIPTION:
URL:https://settlementmusic.org/event/student-recital-germantown/
LOCATION:Benoliel-Germantown Branch\, 6128 Germantown Ave\, Philadelphia\, PA\, 19144\, United States
CATEGORIES:Germantown
END:VEVENT
BEGIN:VEVENT
DTSTART;TZID=America/New_York:20231216T150000
DTEND;TZID=America/New_York:20231216T150000
DTSTAMP:20260424T220441
CREATED:20231002T163917Z
LAST-MODIFIED:20231002T163917Z
UID:10000042-1702738800-1702738800@settlementmusic.org
SUMMARY:Nutcracker Ballet Performance #1 (Mary Louise Curtis)
DESCRIPTION:
URL:https://settlementmusic.org/event/nutcracker-ballet-performance-1-mary-louise-curtis/
LOCATION:Mary Louise Curtis Branch\, 416 Queen St.\, Philadelphia\, PA\, 19147\, United States
CATEGORIES:Mary Louise Curtis
END:VEVENT
BEGIN:VEVENT
DTSTART;TZID=America/New_York:20231217T150000
DTEND;TZID=America/New_York:20231217T150000
DTSTAMP:20260424T220441
CREATED:20231002T163925Z
LAST-MODIFIED:20231002T163925Z
UID:10000043-1702825200-1702825200@settlementmusic.org
SUMMARY:Nutcracker Ballet Performance #2 (Mary Louise Curtis)
DESCRIPTION:
URL:https://settlementmusic.org/event/nutcracker-ballet-performance-2-mary-louise-curtis/
LOCATION:Mary Louise Curtis Branch\, 416 Queen St.\, Philadelphia\, PA\, 19147\, United States
CATEGORIES:Mary Louise Curtis
END:VEVENT
END:VCALENDAR