BEGIN:VCALENDAR
VERSION:2.0
PRODID:-//Settlement Music School - ECPv6.15.12.2//NONSGML v1.0//EN
CALSCALE:GREGORIAN
METHOD:PUBLISH
X-ORIGINAL-URL:https://settlementmusic.org
X-WR-CALDESC:Events for Settlement Music School
REFRESH-INTERVAL;VALUE=DURATION:PT1H
X-Robots-Tag:noindex
X-PUBLISHED-TTL:PT1H
BEGIN:VTIMEZONE
TZID:America/New_York
BEGIN:DAYLIGHT
TZOFFSETFROM:-0500
TZOFFSETTO:-0400
TZNAME:EDT
DTSTART:20230312T070000
END:DAYLIGHT
BEGIN:STANDARD
TZOFFSETFROM:-0400
TZOFFSETTO:-0500
TZNAME:EST
DTSTART:20231105T060000
END:STANDARD
BEGIN:DAYLIGHT
TZOFFSETFROM:-0500
TZOFFSETTO:-0400
TZNAME:EDT
DTSTART:20240310T070000
END:DAYLIGHT
BEGIN:STANDARD
TZOFFSETFROM:-0400
TZOFFSETTO:-0500
TZNAME:EST
DTSTART:20241103T060000
END:STANDARD
BEGIN:DAYLIGHT
TZOFFSETFROM:-0500
TZOFFSETTO:-0400
TZNAME:EDT
DTSTART:20250309T070000
END:DAYLIGHT
BEGIN:STANDARD
TZOFFSETFROM:-0400
TZOFFSETTO:-0500
TZNAME:EST
DTSTART:20251102T060000
END:STANDARD
END:VTIMEZONE
BEGIN:VEVENT
DTSTART;TZID=America/New_York:20240130T183000
DTEND;TZID=America/New_York:20240130T203000
DTSTAMP:20260424T191643
CREATED:20240126T175959Z
LAST-MODIFIED:20240126T175959Z
UID:10000174-1706639400-1706646600@settlementmusic.org
SUMMARY:Adult Jazz Ensemble Concert
DESCRIPTION:
URL:https://settlementmusic.org/event/adult-jazz-ensemble-concert/
LOCATION:Mary Louise Curtis Branch\, 416 Queen St.\, Philadelphia\, PA\, 19147\, United States
CATEGORIES:Concert
ATTACH;FMTTYPE=image/jpeg:https://settlementmusic.org/app/uploads/2024/01/IMG_5631.jpg
END:VEVENT
BEGIN:VEVENT
DTSTART;TZID=America/New_York:20240201T190000
DTEND;TZID=America/New_York:20240201T190000
DTSTAMP:20260424T191644
CREATED:20231002T164943Z
LAST-MODIFIED:20231002T164943Z
UID:10000080-1706814000-1706814000@settlementmusic.org
SUMMARY:Unaccompanied Performance Hour (Mary Louise Curtis)
DESCRIPTION:
URL:https://settlementmusic.org/event/unaccompanied-performance-hour-mary-louise-curtis-8/
LOCATION:Mary Louise Curtis Branch\, 416 Queen St.\, Philadelphia\, PA\, 19147\, United States
CATEGORIES:Mary Louise Curtis
END:VEVENT
BEGIN:VEVENT
DTSTART;TZID=America/New_York:20240203T100000
DTEND;TZID=America/New_York:20240203T100000
DTSTAMP:20260424T191644
CREATED:20231002T164720Z
LAST-MODIFIED:20231002T164720Z
UID:10000066-1706954400-1706954400@settlementmusic.org
SUMMARY:Performance Hour (Kardon-Northeast)
DESCRIPTION:
URL:https://settlementmusic.org/event/performance-hour-kardon-northeast-5/
LOCATION:Kardon-Northeast Branch\, 3745 Clarendon Avenue\, Philadelphia\, PA\, 19114\, United States
CATEGORIES:Kardon-Northeast
END:VEVENT
END:VCALENDAR