BEGIN:VCALENDAR
VERSION:2.0
PRODID:-//Settlement Music School - ECPv6.15.12.2//NONSGML v1.0//EN
CALSCALE:GREGORIAN
METHOD:PUBLISH
X-ORIGINAL-URL:https://settlementmusic.org
X-WR-CALDESC:Events for Settlement Music School
REFRESH-INTERVAL;VALUE=DURATION:PT1H
X-Robots-Tag:noindex
X-PUBLISHED-TTL:PT1H
BEGIN:VTIMEZONE
TZID:America/New_York
BEGIN:DAYLIGHT
TZOFFSETFROM:-0500
TZOFFSETTO:-0400
TZNAME:EDT
DTSTART:20230312T070000
END:DAYLIGHT
BEGIN:STANDARD
TZOFFSETFROM:-0400
TZOFFSETTO:-0500
TZNAME:EST
DTSTART:20231105T060000
END:STANDARD
BEGIN:DAYLIGHT
TZOFFSETFROM:-0500
TZOFFSETTO:-0400
TZNAME:EDT
DTSTART:20240310T070000
END:DAYLIGHT
BEGIN:STANDARD
TZOFFSETFROM:-0400
TZOFFSETTO:-0500
TZNAME:EST
DTSTART:20241103T060000
END:STANDARD
BEGIN:DAYLIGHT
TZOFFSETFROM:-0500
TZOFFSETTO:-0400
TZNAME:EDT
DTSTART:20250309T070000
END:DAYLIGHT
BEGIN:STANDARD
TZOFFSETFROM:-0400
TZOFFSETTO:-0500
TZNAME:EST
DTSTART:20251102T060000
END:STANDARD
END:VTIMEZONE
BEGIN:VEVENT
DTSTART;TZID=America/New_York:20240215T181500
DTEND;TZID=America/New_York:20240215T181500
DTSTAMP:20260424T180114
CREATED:20231002T170637Z
LAST-MODIFIED:20231002T170637Z
UID:10000131-1708020900-1708020900@settlementmusic.org
SUMMARY:Performance Hour (Settlement Music Online)
DESCRIPTION:
URL:https://settlementmusic.org/event/performance-hour-settlement-music-online-4/
LOCATION:Settlement Music Online
CATEGORIES:Settlement Music Online
END:VEVENT
BEGIN:VEVENT
DTSTART;TZID=America/New_York:20240215T190000
DTEND;TZID=America/New_York:20240215T190000
DTSTAMP:20260424T180114
CREATED:20231002T165002Z
LAST-MODIFIED:20231002T165002Z
UID:10000083-1708023600-1708023600@settlementmusic.org
SUMMARY:Unaccompanied Performance Hour (Mary Louise Curtis)
DESCRIPTION:
URL:https://settlementmusic.org/event/unaccompanied-performance-hour-mary-louise-curtis-9/
LOCATION:Mary Louise Curtis Branch\, 416 Queen St.\, Philadelphia\, PA\, 19147\, United States
CATEGORIES:Mary Louise Curtis
END:VEVENT
BEGIN:VEVENT
DTSTART;TZID=America/New_York:20240216T190000
DTEND;TZID=America/New_York:20240216T190000
DTSTAMP:20260424T180114
CREATED:20231002T170307Z
LAST-MODIFIED:20231002T170307Z
UID:10000119-1708110000-1708110000@settlementmusic.org
SUMMARY:Student Recital (Willow Grove)
DESCRIPTION:
URL:https://settlementmusic.org/event/student-recital-willow-grove-5/
LOCATION:Willow Grove Branch\, 318 Davisville Road\, Willow Grove\, PA\, 19090\, United States
CATEGORIES:Willow Grove
END:VEVENT
BEGIN:VEVENT
DTSTART;TZID=America/New_York:20240217T100000
DTEND;TZID=America/New_York:20240217T100000
DTSTAMP:20260424T180114
CREATED:20231002T164445Z
LAST-MODIFIED:20231002T164445Z
UID:10000054-1708164000-1708164000@settlementmusic.org
SUMMARY:Performance Hour (Germantown)
DESCRIPTION:
URL:https://settlementmusic.org/event/performance-hour-germantown-4/
LOCATION:Benoliel-Germantown Branch\, 6128 Germantown Ave\, Philadelphia\, PA\, 19144\, United States
CATEGORIES:Germantown
END:VEVENT
BEGIN:VEVENT
DTSTART;TZID=America/New_York:20240217T100000
DTEND;TZID=America/New_York:20240217T100000
DTSTAMP:20260424T180114
CREATED:20231002T164726Z
LAST-MODIFIED:20231002T164726Z
UID:10000067-1708164000-1708164000@settlementmusic.org
SUMMARY:Performance Hour (Kardon-Northeast)
DESCRIPTION:
URL:https://settlementmusic.org/event/performance-hour-kardon-northeast-6/
LOCATION:Kardon-Northeast Branch\, 3745 Clarendon Avenue\, Philadelphia\, PA\, 19114\, United States
CATEGORIES:Kardon-Northeast
END:VEVENT
BEGIN:VEVENT
DTSTART;TZID=America/New_York:20240218T133000
DTEND;TZID=America/New_York:20240218T173000
DTSTAMP:20260424T180114
CREATED:20231128T182711Z
LAST-MODIFIED:20231128T182742Z
UID:10000165-1708263000-1708277400@settlementmusic.org
SUMMARY:Get Jazzed - Berks Jazz Fest
DESCRIPTION:
URL:https://settlementmusic.org/event/get-jazzed-berks-jazz-fest/
LOCATION:Mary Louise Curtis Branch\, 416 Queen St.\, Philadelphia\, PA\, 19147\, United States
CATEGORIES:Mary Louise Curtis
END:VEVENT
END:VCALENDAR