BEGIN:VCALENDAR
VERSION:2.0
PRODID:-//Settlement Music School - ECPv6.15.12.2//NONSGML v1.0//EN
CALSCALE:GREGORIAN
METHOD:PUBLISH
X-WR-CALNAME:Settlement Music School
X-ORIGINAL-URL:https://settlementmusic.org
X-WR-CALDESC:Events for Settlement Music School
REFRESH-INTERVAL;VALUE=DURATION:PT1H
X-Robots-Tag:noindex
X-PUBLISHED-TTL:PT1H
BEGIN:VTIMEZONE
TZID:America/New_York
BEGIN:DAYLIGHT
TZOFFSETFROM:-0500
TZOFFSETTO:-0400
TZNAME:EDT
DTSTART:20230312T070000
END:DAYLIGHT
BEGIN:STANDARD
TZOFFSETFROM:-0400
TZOFFSETTO:-0500
TZNAME:EST
DTSTART:20231105T060000
END:STANDARD
BEGIN:DAYLIGHT
TZOFFSETFROM:-0500
TZOFFSETTO:-0400
TZNAME:EDT
DTSTART:20240310T070000
END:DAYLIGHT
BEGIN:STANDARD
TZOFFSETFROM:-0400
TZOFFSETTO:-0500
TZNAME:EST
DTSTART:20241103T060000
END:STANDARD
BEGIN:DAYLIGHT
TZOFFSETFROM:-0500
TZOFFSETTO:-0400
TZNAME:EDT
DTSTART:20250309T070000
END:DAYLIGHT
BEGIN:STANDARD
TZOFFSETFROM:-0400
TZOFFSETTO:-0500
TZNAME:EST
DTSTART:20251102T060000
END:STANDARD
END:VTIMEZONE
BEGIN:VEVENT
DTSTART;TZID=America/New_York:20240219T180000
DTEND;TZID=America/New_York:20240219T200000
DTSTAMP:20260424T164622
CREATED:20231215T184112Z
LAST-MODIFIED:20231215T184112Z
UID:10000170-1708365600-1708372800@settlementmusic.org
SUMMARY:PMAY Annual Showcase Concert
DESCRIPTION:
URL:https://settlementmusic.org/event/pmay-annual-showcase-concert/
LOCATION:Mary Louise Curtis Branch\, 416 Queen St.\, Philadelphia\, PA\, 19147\, United States
CATEGORIES:Concert,Mary Louise Curtis
ORGANIZER;CN="PMAY Artists' Initiative":MAILTO:najib.wong@pmayartists.org
END:VEVENT
BEGIN:VEVENT
DTSTART;TZID=America/New_York:20240221T190000
DTEND;TZID=America/New_York:20240221T190000
DTSTAMP:20260424T164622
CREATED:20231002T164731Z
LAST-MODIFIED:20231002T164731Z
UID:10000068-1708542000-1708542000@settlementmusic.org
SUMMARY:Student Recital (Kardon-Northeast)
DESCRIPTION:
URL:https://settlementmusic.org/event/student-recital-kardon-northeast-3/
LOCATION:Kardon-Northeast Branch\, 3745 Clarendon Avenue\, Philadelphia\, PA\, 19114\, United States
CATEGORIES:Kardon-Northeast
END:VEVENT
BEGIN:VEVENT
DTSTART;TZID=America/New_York:20240221T190000
DTEND;TZID=America/New_York:20240221T190000
DTSTAMP:20260424T164622
CREATED:20240729T172736Z
LAST-MODIFIED:20240729T172736Z
UID:10000588-1708542000-1708542000@settlementmusic.org
SUMMARY:Student Recital (Willow Grove)
DESCRIPTION:
URL:https://settlementmusic.org/event/student-recital-willow-grove-14/
LOCATION:Willow Grove Branch\, 318 Davisville Road\, Willow Grove\, PA\, 19090\, United States
CATEGORIES:Willow Grove
END:VEVENT
BEGIN:VEVENT
DTSTART;TZID=America/New_York:20240224T130000
DTEND;TZID=America/New_York:20240224T130000
DTSTAMP:20260424T164622
CREATED:20231002T165012Z
LAST-MODIFIED:20231002T165012Z
UID:10000084-1708779600-1708779600@settlementmusic.org
SUMMARY:Accompanied Performance Hour (Mary Louise Curtis)
DESCRIPTION:
URL:https://settlementmusic.org/event/accompanied-performance-hour-mary-louise-curtis-10/
LOCATION:Mary Louise Curtis Branch\, 416 Queen St.\, Philadelphia\, PA\, 19147\, United States
CATEGORIES:Mary Louise Curtis
END:VEVENT
BEGIN:VEVENT
DTSTART;TZID=America/New_York:20240224T150000
DTEND;TZID=America/New_York:20240224T150000
DTSTAMP:20260424T164622
CREATED:20231002T165145Z
LAST-MODIFIED:20231002T165145Z
UID:10000085-1708786800-1708786800@settlementmusic.org
SUMMARY:Student Recital (Mary Louise Curtis)
DESCRIPTION:
URL:https://settlementmusic.org/event/student-recital-mary-louise-curtis-6/
LOCATION:Mary Louise Curtis Branch\, 416 Queen St.\, Philadelphia\, PA\, 19147\, United States
CATEGORIES:Mary Louise Curtis
END:VEVENT
END:VCALENDAR