BEGIN:VCALENDAR
VERSION:2.0
PRODID:-//Settlement Music School - ECPv6.15.12.2//NONSGML v1.0//EN
CALSCALE:GREGORIAN
METHOD:PUBLISH
X-ORIGINAL-URL:https://settlementmusic.org
X-WR-CALDESC:Events for Settlement Music School
REFRESH-INTERVAL;VALUE=DURATION:PT1H
X-Robots-Tag:noindex
X-PUBLISHED-TTL:PT1H
BEGIN:VTIMEZONE
TZID:America/New_York
BEGIN:DAYLIGHT
TZOFFSETFROM:-0500
TZOFFSETTO:-0400
TZNAME:EDT
DTSTART:20230312T070000
END:DAYLIGHT
BEGIN:STANDARD
TZOFFSETFROM:-0400
TZOFFSETTO:-0500
TZNAME:EST
DTSTART:20231105T060000
END:STANDARD
BEGIN:DAYLIGHT
TZOFFSETFROM:-0500
TZOFFSETTO:-0400
TZNAME:EDT
DTSTART:20240310T070000
END:DAYLIGHT
BEGIN:STANDARD
TZOFFSETFROM:-0400
TZOFFSETTO:-0500
TZNAME:EST
DTSTART:20241103T060000
END:STANDARD
BEGIN:DAYLIGHT
TZOFFSETFROM:-0500
TZOFFSETTO:-0400
TZNAME:EDT
DTSTART:20250309T070000
END:DAYLIGHT
BEGIN:STANDARD
TZOFFSETFROM:-0400
TZOFFSETTO:-0500
TZNAME:EST
DTSTART:20251102T060000
END:STANDARD
END:VTIMEZONE
BEGIN:VEVENT
DTSTART;VALUE=DATE:20240301
DTEND;VALUE=DATE:20240302
DTSTAMP:20260424T152518
CREATED:20240228T214133Z
LAST-MODIFIED:20240228T214156Z
UID:10000183-1709251200-1709337599@settlementmusic.org
SUMMARY:Scholarship Auditions (Germantown Branch)
DESCRIPTION:
URL:https://settlementmusic.org/event/scholarship-auditions-germantown-branch/
LOCATION:Benoliel-Germantown Branch\, 6128 Germantown Ave\, Philadelphia\, PA\, 19144\, United States
CATEGORIES:Auditions,Germantown
END:VEVENT
BEGIN:VEVENT
DTSTART;TZID=America/New_York:20240302T100000
DTEND;TZID=America/New_York:20240302T100000
DTSTAMP:20260424T152518
CREATED:20240222T203733Z
LAST-MODIFIED:20240222T203733Z
UID:10000177-1709373600-1709373600@settlementmusic.org
SUMMARY:Performance Hour (Kardon-Northeast)
DESCRIPTION:
URL:https://settlementmusic.org/event/performance-hour-kardon-northeast-9/
LOCATION:Kardon-Northeast Branch\, 3745 Clarendon Avenue\, Philadelphia\, PA\, 19114\, United States
CATEGORIES:Kardon-Northeast
END:VEVENT
BEGIN:VEVENT
DTSTART;TZID=America/New_York:20240302T110000
DTEND;TZID=America/New_York:20240302T120000
DTSTAMP:20260424T152518
CREATED:20231002T165816Z
LAST-MODIFIED:20231120T154034Z
UID:10000108-1709377200-1709380800@settlementmusic.org
SUMMARY:Performance Hour (Wynnefield)
DESCRIPTION:
URL:https://settlementmusic.org/event/performance-hour-wynnefield-8/
LOCATION:Wynnefield Branch\, 4910 Wynnefield Avenue\, Philadelphia\, PA\, 19131\, United States
CATEGORIES:Wynnefield
END:VEVENT
BEGIN:VEVENT
DTSTART;TZID=America/New_York:20240302T190000
DTEND;TZID=America/New_York:20240302T190000
DTSTAMP:20260424T152518
CREATED:20231002T165200Z
LAST-MODIFIED:20240227T212446Z
UID:10000086-1709406000-1709406000@settlementmusic.org
SUMMARY:Advanced Study Ensemble Concert
DESCRIPTION:
URL:https://settlementmusic.org/event/advanced-study-ensemble-concert/
LOCATION:Mary Louise Curtis Branch\, 416 Queen St.\, Philadelphia\, PA\, 19147\, United States
CATEGORIES:Concert,Mary Louise Curtis
ATTACH;FMTTYPE=image/jpeg:https://settlementmusic.org/app/uploads/2023/10/DSC_0123-XL.jpg
END:VEVENT
END:VCALENDAR