BEGIN:VCALENDAR
VERSION:2.0
PRODID:-//Settlement Music School - ECPv6.15.12.2//NONSGML v1.0//EN
CALSCALE:GREGORIAN
METHOD:PUBLISH
X-ORIGINAL-URL:https://settlementmusic.org
X-WR-CALDESC:Events for Settlement Music School
REFRESH-INTERVAL;VALUE=DURATION:PT1H
X-Robots-Tag:noindex
X-PUBLISHED-TTL:PT1H
BEGIN:VTIMEZONE
TZID:America/New_York
BEGIN:DAYLIGHT
TZOFFSETFROM:-0500
TZOFFSETTO:-0400
TZNAME:EDT
DTSTART:20230312T070000
END:DAYLIGHT
BEGIN:STANDARD
TZOFFSETFROM:-0400
TZOFFSETTO:-0500
TZNAME:EST
DTSTART:20231105T060000
END:STANDARD
BEGIN:DAYLIGHT
TZOFFSETFROM:-0500
TZOFFSETTO:-0400
TZNAME:EDT
DTSTART:20240310T070000
END:DAYLIGHT
BEGIN:STANDARD
TZOFFSETFROM:-0400
TZOFFSETTO:-0500
TZNAME:EST
DTSTART:20241103T060000
END:STANDARD
BEGIN:DAYLIGHT
TZOFFSETFROM:-0500
TZOFFSETTO:-0400
TZNAME:EDT
DTSTART:20250309T070000
END:DAYLIGHT
BEGIN:STANDARD
TZOFFSETFROM:-0400
TZOFFSETTO:-0500
TZNAME:EST
DTSTART:20251102T060000
END:STANDARD
END:VTIMEZONE
BEGIN:VEVENT
DTSTART;TZID=America/New_York:20240311T150000
DTEND;TZID=America/New_York:20240311T150000
DTSTAMP:20260424T175736
CREATED:20231002T165224Z
LAST-MODIFIED:20231002T165224Z
UID:10000089-1710169200-1710169200@settlementmusic.org
SUMMARY:Scholarship Auditions (Mary Louise Curtis)
DESCRIPTION:
URL:https://settlementmusic.org/event/scholarship-auditions-mary-louise-curtis/
LOCATION:Mary Louise Curtis Branch\, 416 Queen St.\, Philadelphia\, PA\, 19147\, United States
CATEGORIES:Mary Louise Curtis
END:VEVENT
BEGIN:VEVENT
DTSTART;VALUE=DATE:20240313
DTEND;VALUE=DATE:20240314
DTSTAMP:20260424T175736
CREATED:20240228T213928Z
LAST-MODIFIED:20240228T214014Z
UID:10000182-1710288000-1710374399@settlementmusic.org
SUMMARY:Scholarship Auditions (Kardon-Northeast Branch)
DESCRIPTION:
URL:https://settlementmusic.org/event/scholarship-auditions-kardon-northeast-branch/
LOCATION:Kardon-Northeast Branch\, 3745 Clarendon Avenue\, Philadelphia\, PA\, 19114\, United States
CATEGORIES:Auditions,Kardon-Northeast
END:VEVENT
BEGIN:VEVENT
DTSTART;TZID=America/New_York:20240313T190000
DTEND;TZID=America/New_York:20240313T190000
DTSTAMP:20260424T175736
CREATED:20240228T212855Z
LAST-MODIFIED:20240228T212955Z
UID:10000180-1710356400-1710356400@settlementmusic.org
SUMMARY:Concert: Trio New World performs the Tchaikovsky Piano Trio
DESCRIPTION:
URL:https://settlementmusic.org/event/concert-trio-new-world-performs-the-tchaikovsky-piano-trio/
LOCATION:Wynnefield Branch\, 4910 Wynnefield Avenue\, Philadelphia\, PA\, 19131\, United States
CATEGORIES:Concert,Wynnefield
END:VEVENT
BEGIN:VEVENT
DTSTART;TZID=America/New_York:20240316T100000
DTEND;TZID=America/New_York:20240316T100000
DTSTAMP:20260424T175736
CREATED:20231002T164522Z
LAST-MODIFIED:20231002T164522Z
UID:10000055-1710583200-1710583200@settlementmusic.org
SUMMARY:Performance Hour (Germantown)
DESCRIPTION:
URL:https://settlementmusic.org/event/performance-hour-germantown-5/
LOCATION:Benoliel-Germantown Branch\, 6128 Germantown Ave\, Philadelphia\, PA\, 19144\, United States
CATEGORIES:Germantown
END:VEVENT
END:VCALENDAR