BEGIN:VCALENDAR
VERSION:2.0
PRODID:-//Settlement Music School - ECPv6.15.12.2//NONSGML v1.0//EN
CALSCALE:GREGORIAN
METHOD:PUBLISH
X-WR-CALNAME:Settlement Music School
X-ORIGINAL-URL:https://settlementmusic.org
X-WR-CALDESC:Events for Settlement Music School
REFRESH-INTERVAL;VALUE=DURATION:PT1H
X-Robots-Tag:noindex
X-PUBLISHED-TTL:PT1H
BEGIN:VTIMEZONE
TZID:America/New_York
BEGIN:DAYLIGHT
TZOFFSETFROM:-0500
TZOFFSETTO:-0400
TZNAME:EDT
DTSTART:20230312T070000
END:DAYLIGHT
BEGIN:STANDARD
TZOFFSETFROM:-0400
TZOFFSETTO:-0500
TZNAME:EST
DTSTART:20231105T060000
END:STANDARD
BEGIN:DAYLIGHT
TZOFFSETFROM:-0500
TZOFFSETTO:-0400
TZNAME:EDT
DTSTART:20240310T070000
END:DAYLIGHT
BEGIN:STANDARD
TZOFFSETFROM:-0400
TZOFFSETTO:-0500
TZNAME:EST
DTSTART:20241103T060000
END:STANDARD
BEGIN:DAYLIGHT
TZOFFSETFROM:-0500
TZOFFSETTO:-0400
TZNAME:EDT
DTSTART:20250309T070000
END:DAYLIGHT
BEGIN:STANDARD
TZOFFSETFROM:-0400
TZOFFSETTO:-0500
TZNAME:EST
DTSTART:20251102T060000
END:STANDARD
END:VTIMEZONE
BEGIN:VEVENT
DTSTART;TZID=America/New_York:20240415T190000
DTEND;TZID=America/New_York:20240415T190000
DTSTAMP:20260424T152246
CREATED:20231002T165957Z
LAST-MODIFIED:20231003T184606Z
UID:10000111-1713207600-1713207600@settlementmusic.org
SUMMARY:Performance Hour (Wynnefield)
DESCRIPTION:
URL:https://settlementmusic.org/event/performance-hour-wynnefield-10/
LOCATION:Wynnefield Branch\, 4910 Wynnefield Avenue\, Philadelphia\, PA\, 19131\, United States
CATEGORIES:Wynnefield
END:VEVENT
BEGIN:VEVENT
DTSTART;TZID=America/New_York:20240416T183000
DTEND;TZID=America/New_York:20240416T183000
DTSTAMP:20260424T152246
CREATED:20240415T193332Z
LAST-MODIFIED:20240415T193332Z
UID:10000188-1713292200-1713292200@settlementmusic.org
SUMMARY:Jazz Bridge Presents: Germantown Neighborhood Concerts ft. Byron Landham
DESCRIPTION:
URL:https://settlementmusic.org/event/jazz-bridge-presents-germantown-neighborhood-concerts-ft-byron-landham/
LOCATION:Benoliel-Germantown Branch\, 6128 Germantown Ave\, Philadelphia\, PA\, 19144\, United States
CATEGORIES:Concert,Germantown
END:VEVENT
BEGIN:VEVENT
DTSTART;TZID=America/New_York:20240417T190000
DTEND;TZID=America/New_York:20240417T190000
DTSTAMP:20260424T152246
CREATED:20240129T212242Z
LAST-MODIFIED:20240129T212242Z
UID:10000175-1713380400-1713380400@settlementmusic.org
SUMMARY:Student Recital (Kardon-Northeast)
DESCRIPTION:
URL:https://settlementmusic.org/event/student-recital-kardon-northeast-5/
LOCATION:Kardon-Northeast Branch\, 3745 Clarendon Avenue\, Philadelphia\, PA\, 19114\, United States
CATEGORIES:Kardon-Northeast
END:VEVENT
BEGIN:VEVENT
DTSTART;TZID=America/New_York:20240418T181500
DTEND;TZID=America/New_York:20240418T181500
DTSTAMP:20260424T152246
CREATED:20231002T170650Z
LAST-MODIFIED:20231002T170650Z
UID:10000133-1713464100-1713464100@settlementmusic.org
SUMMARY:Performance Hour (Settlement Music Online)
DESCRIPTION:
URL:https://settlementmusic.org/event/performance-hour-settlement-music-online-6/
LOCATION:Settlement Music Online
CATEGORIES:Settlement Music Online
END:VEVENT
BEGIN:VEVENT
DTSTART;TZID=America/New_York:20240418T190000
DTEND;TZID=America/New_York:20240418T190000
DTSTAMP:20260424T152246
CREATED:20231002T165442Z
LAST-MODIFIED:20231002T165442Z
UID:10000091-1713466800-1713466800@settlementmusic.org
SUMMARY:Unaccompanied Performance Hour (Mary Louise Curtis)
DESCRIPTION:
URL:https://settlementmusic.org/event/unaccompanied-performance-hour-mary-louise-curtis-10/
LOCATION:Mary Louise Curtis Branch\, 416 Queen St.\, Philadelphia\, PA\, 19147\, United States
CATEGORIES:Mary Louise Curtis
END:VEVENT
BEGIN:VEVENT
DTSTART;TZID=America/New_York:20240419T190000
DTEND;TZID=America/New_York:20240419T190000
DTSTAMP:20260424T152246
CREATED:20231002T170434Z
LAST-MODIFIED:20231002T170434Z
UID:10000120-1713553200-1713553200@settlementmusic.org
SUMMARY:Performance Hour (Willow Grove)
DESCRIPTION:
URL:https://settlementmusic.org/event/performance-hour-willow-grove-6/
LOCATION:Willow Grove Branch\, 318 Davisville Road\, Willow Grove\, PA\, 19090\, United States
CATEGORIES:Willow Grove
END:VEVENT
BEGIN:VEVENT
DTSTART;TZID=America/New_York:20240420T130000
DTEND;TZID=America/New_York:20240420T130000
DTSTAMP:20260424T152246
CREATED:20231002T165450Z
LAST-MODIFIED:20231002T165450Z
UID:10000092-1713618000-1713618000@settlementmusic.org
SUMMARY:Accompanied Performance Hour (Mary Louise Curtis)
DESCRIPTION:
URL:https://settlementmusic.org/event/accompanied-performance-hour-mary-louise-curtis-11/
LOCATION:Mary Louise Curtis Branch\, 416 Queen St.\, Philadelphia\, PA\, 19147\, United States
CATEGORIES:Mary Louise Curtis
END:VEVENT
BEGIN:VEVENT
DTSTART;TZID=America/New_York:20240420T130000
DTEND;TZID=America/New_York:20240420T140000
DTSTAMP:20260424T152246
CREATED:20240412T164319Z
LAST-MODIFIED:20240412T164319Z
UID:10000187-1713618000-1713621600@settlementmusic.org
SUMMARY:Andrew Neu Big Band Concert
DESCRIPTION:
URL:https://settlementmusic.org/event/andrew-neu-big-band-concert/
LOCATION:Wynnefield Branch\, 4910 Wynnefield Avenue\, Philadelphia\, PA\, 19131\, United States
CATEGORIES:Concert,Wynnefield
ATTACH;FMTTYPE=image/jpeg:https://settlementmusic.org/app/uploads/2024/04/ANBB-scaled.jpg
END:VEVENT
BEGIN:VEVENT
DTSTART;TZID=America/New_York:20240421T110000
DTEND;TZID=America/New_York:20240421T160000
DTSTAMP:20260424T152246
CREATED:20231002T164912Z
LAST-MODIFIED:20231121T150535Z
UID:10000077-1713697200-1713715200@settlementmusic.org
SUMMARY:Tapestry Strings Mini Workshop
DESCRIPTION:
URL:https://settlementmusic.org/event/tapestry-strings-mini-workshop/
LOCATION:Mary Louise Curtis Branch\, 416 Queen St.\, Philadelphia\, PA\, 19147\, United States
CATEGORIES:Mary Louise Curtis
END:VEVENT
BEGIN:VEVENT
DTSTART;TZID=America/New_York:20240421T140000
DTEND;TZID=America/New_York:20240421T140000
DTSTAMP:20260424T152246
CREATED:20240418T165805Z
LAST-MODIFIED:20240418T165805Z
UID:10000189-1713708000-1713708000@settlementmusic.org
SUMMARY:String Recital featuring Peabody Pre-Conservatory and Settlement Music School
DESCRIPTION:
URL:https://settlementmusic.org/event/string-recital-featuring-peabody-pre-conservatory-and-settlement-music-school/
LOCATION:Mary Louise Curtis Branch\, 416 Queen St.\, Philadelphia\, PA\, 19147\, United States
CATEGORIES:Concert,Mary Louise Curtis
END:VEVENT
END:VCALENDAR