BEGIN:VCALENDAR
VERSION:2.0
PRODID:-//Settlement Music School - ECPv6.15.12.2//NONSGML v1.0//EN
CALSCALE:GREGORIAN
METHOD:PUBLISH
X-ORIGINAL-URL:https://settlementmusic.org
X-WR-CALDESC:Events for Settlement Music School
REFRESH-INTERVAL;VALUE=DURATION:PT1H
X-Robots-Tag:noindex
X-PUBLISHED-TTL:PT1H
BEGIN:VTIMEZONE
TZID:America/New_York
BEGIN:DAYLIGHT
TZOFFSETFROM:-0500
TZOFFSETTO:-0400
TZNAME:EDT
DTSTART:20230312T070000
END:DAYLIGHT
BEGIN:STANDARD
TZOFFSETFROM:-0400
TZOFFSETTO:-0500
TZNAME:EST
DTSTART:20231105T060000
END:STANDARD
BEGIN:DAYLIGHT
TZOFFSETFROM:-0500
TZOFFSETTO:-0400
TZNAME:EDT
DTSTART:20240310T070000
END:DAYLIGHT
BEGIN:STANDARD
TZOFFSETFROM:-0400
TZOFFSETTO:-0500
TZNAME:EST
DTSTART:20241103T060000
END:STANDARD
BEGIN:DAYLIGHT
TZOFFSETFROM:-0500
TZOFFSETTO:-0400
TZNAME:EDT
DTSTART:20250309T070000
END:DAYLIGHT
BEGIN:STANDARD
TZOFFSETFROM:-0400
TZOFFSETTO:-0500
TZNAME:EST
DTSTART:20251102T060000
END:STANDARD
END:VTIMEZONE
BEGIN:VEVENT
DTSTART;TZID=America/New_York:20240509T080000
DTEND;TZID=America/New_York:20240509T170000
DTSTAMP:20260424T141505
CREATED:20240509T205713Z
LAST-MODIFIED:20240509T205713Z
UID:10000194-1715241600-1715274000@settlementmusic.org
SUMMARY:Wynnefield Jazz Ensembles play Jamey’s House of Music
DESCRIPTION:
URL:https://settlementmusic.org/event/wynnefield-jazz-ensembles-play-jameys-house-of-music/
LOCATION:Jamey’s House of Music\, 32 S Lansdowne Ave.\, Lansdowne\, PA\, 19050\, United States
CATEGORIES:Concert,Wynnefield
END:VEVENT
BEGIN:VEVENT
DTSTART;TZID=America/New_York:20240509T190000
DTEND;TZID=America/New_York:20240509T190000
DTSTAMP:20260424T141505
CREATED:20231002T165606Z
LAST-MODIFIED:20231002T165606Z
UID:10000096-1715281200-1715281200@settlementmusic.org
SUMMARY:Certification Recital  (Mary Louise Curtis)
DESCRIPTION:
URL:https://settlementmusic.org/event/certification-recital-mary-louise-curtis/
LOCATION:Mary Louise Curtis Branch\, 416 Queen St.\, Philadelphia\, PA\, 19147\, United States
CATEGORIES:Mary Louise Curtis
END:VEVENT
BEGIN:VEVENT
DTSTART;TZID=America/New_York:20240511T100000
DTEND;TZID=America/New_York:20240511T100000
DTSTAMP:20260424T141505
CREATED:20231002T164539Z
LAST-MODIFIED:20231002T164539Z
UID:10000057-1715421600-1715421600@settlementmusic.org
SUMMARY:Performance Hour (Germantown)
DESCRIPTION:
URL:https://settlementmusic.org/event/performance-hour-germantown-7/
LOCATION:Benoliel-Germantown Branch\, 6128 Germantown Ave\, Philadelphia\, PA\, 19144\, United States
CATEGORIES:Germantown
END:VEVENT
BEGIN:VEVENT
DTSTART;TZID=America/New_York:20240511T100000
DTEND;TZID=America/New_York:20240511T100000
DTSTAMP:20260424T141505
CREATED:20231002T164757Z
LAST-MODIFIED:20231002T164757Z
UID:10000070-1715421600-1715421600@settlementmusic.org
SUMMARY:Performance Hour (Kardon-Northeast)
DESCRIPTION:
URL:https://settlementmusic.org/event/performance-hour-kardon-northeast-8/
LOCATION:Kardon-Northeast Branch\, 3745 Clarendon Avenue\, Philadelphia\, PA\, 19114\, United States
CATEGORIES:Kardon-Northeast
END:VEVENT
BEGIN:VEVENT
DTSTART;TZID=America/New_York:20240511T110000
DTEND;TZID=America/New_York:20240511T120000
DTSTAMP:20260424T141505
CREATED:20231002T170005Z
LAST-MODIFIED:20231120T154040Z
UID:10000112-1715425200-1715428800@settlementmusic.org
SUMMARY:Performance Hour (Wynnefield)
DESCRIPTION:
URL:https://settlementmusic.org/event/performance-hour-wynnefield-11/
LOCATION:Wynnefield Branch\, 4910 Wynnefield Avenue\, Philadelphia\, PA\, 19131\, United States
CATEGORIES:Wynnefield
END:VEVENT
BEGIN:VEVENT
DTSTART;TZID=America/New_York:20240511T130000
DTEND;TZID=America/New_York:20240511T130000
DTSTAMP:20260424T141505
CREATED:20231002T165613Z
LAST-MODIFIED:20231002T165613Z
UID:10000097-1715432400-1715432400@settlementmusic.org
SUMMARY:Accompanied Performance Hour (Mary Louise Curtis)
DESCRIPTION:
URL:https://settlementmusic.org/event/accompanied-performance-hour-mary-louise-curtis-13/
LOCATION:Mary Louise Curtis Branch\, 416 Queen St.\, Philadelphia\, PA\, 19147\, United States
CATEGORIES:Mary Louise Curtis
END:VEVENT
BEGIN:VEVENT
DTSTART;TZID=America/New_York:20240511T140000
DTEND;TZID=America/New_York:20240511T140000
DTSTAMP:20260424T141505
CREATED:20231002T164546Z
LAST-MODIFIED:20231002T164546Z
UID:10000058-1715436000-1715436000@settlementmusic.org
SUMMARY:Student Recital (Germantown)
DESCRIPTION:
URL:https://settlementmusic.org/event/student-recital-germantown-2/
LOCATION:Benoliel-Germantown Branch\, 6128 Germantown Ave\, Philadelphia\, PA\, 19144\, United States
CATEGORIES:Germantown
END:VEVENT
BEGIN:VEVENT
DTSTART;TZID=America/New_York:20240511T143000
DTEND;TZID=America/New_York:20240511T153000
DTSTAMP:20260424T141505
CREATED:20240509T210320Z
LAST-MODIFIED:20240509T210320Z
UID:10000196-1715437800-1715441400@settlementmusic.org
SUMMARY:Russell Klein Studio Recital
DESCRIPTION:
URL:https://settlementmusic.org/event/russell-klein-studio-recital/
LOCATION:Kardon-Northeast Branch\, 3745 Clarendon Avenue\, Philadelphia\, PA\, 19114\, United States
CATEGORIES:Concert,Kardon-Northeast
END:VEVENT
BEGIN:VEVENT
DTSTART;TZID=America/New_York:20240511T150000
DTEND;TZID=America/New_York:20240511T150000
DTSTAMP:20260424T141505
CREATED:20231002T165619Z
LAST-MODIFIED:20231002T165619Z
UID:10000098-1715439600-1715439600@settlementmusic.org
SUMMARY:Student Recital (Mary Louise Curtis)
DESCRIPTION:
URL:https://settlementmusic.org/event/student-recital-mary-louise-curtis-8/
LOCATION:Mary Louise Curtis Branch\, 416 Queen St.\, Philadelphia\, PA\, 19147\, United States
CATEGORIES:Mary Louise Curtis
END:VEVENT
END:VCALENDAR