BEGIN:VCALENDAR
VERSION:2.0
PRODID:-//Settlement Music School - ECPv6.15.12.2//NONSGML v1.0//EN
CALSCALE:GREGORIAN
METHOD:PUBLISH
X-WR-CALNAME:Settlement Music School
X-ORIGINAL-URL:https://settlementmusic.org
X-WR-CALDESC:Events for Settlement Music School
REFRESH-INTERVAL;VALUE=DURATION:PT1H
X-Robots-Tag:noindex
X-PUBLISHED-TTL:PT1H
BEGIN:VTIMEZONE
TZID:America/New_York
BEGIN:DAYLIGHT
TZOFFSETFROM:-0500
TZOFFSETTO:-0400
TZNAME:EDT
DTSTART:20230312T070000
END:DAYLIGHT
BEGIN:STANDARD
TZOFFSETFROM:-0400
TZOFFSETTO:-0500
TZNAME:EST
DTSTART:20231105T060000
END:STANDARD
BEGIN:DAYLIGHT
TZOFFSETFROM:-0500
TZOFFSETTO:-0400
TZNAME:EDT
DTSTART:20240310T070000
END:DAYLIGHT
BEGIN:STANDARD
TZOFFSETFROM:-0400
TZOFFSETTO:-0500
TZNAME:EST
DTSTART:20241103T060000
END:STANDARD
BEGIN:DAYLIGHT
TZOFFSETFROM:-0500
TZOFFSETTO:-0400
TZNAME:EDT
DTSTART:20250309T070000
END:DAYLIGHT
BEGIN:STANDARD
TZOFFSETFROM:-0400
TZOFFSETTO:-0500
TZNAME:EST
DTSTART:20251102T060000
END:STANDARD
END:VTIMEZONE
BEGIN:VEVENT
DTSTART;TZID=America/New_York:20240605T190000
DTEND;TZID=America/New_York:20240605T190000
DTSTAMP:20260424T125913
CREATED:20240129T212250Z
LAST-MODIFIED:20240129T212250Z
UID:10000176-1717614000-1717614000@settlementmusic.org
SUMMARY:Student Recital (Kardon-Northeast)
DESCRIPTION:
URL:https://settlementmusic.org/event/student-recital-kardon-northeast-6/
LOCATION:Kardon-Northeast Branch\, 3745 Clarendon Avenue\, Philadelphia\, PA\, 19114\, United States
CATEGORIES:Kardon-Northeast
END:VEVENT
BEGIN:VEVENT
DTSTART;TZID=America/New_York:20240606T190000
DTEND;TZID=America/New_York:20240606T190000
DTSTAMP:20260424T125913
CREATED:20231002T165750Z
LAST-MODIFIED:20231002T165750Z
UID:10000105-1717700400-1717700400@settlementmusic.org
SUMMARY:Unaccompanied Performance Hour (Mary Louise Curtis)
DESCRIPTION:
URL:https://settlementmusic.org/event/unaccompanied-performance-hour-mary-louise-curtis-14/
LOCATION:Mary Louise Curtis Branch\, 416 Queen St.\, Philadelphia\, PA\, 19147\, United States
CATEGORIES:Mary Louise Curtis
END:VEVENT
BEGIN:VEVENT
DTSTART;TZID=America/New_York:20240607T181500
DTEND;TZID=America/New_York:20240607T181500
DTSTAMP:20260424T125913
CREATED:20231002T170721Z
LAST-MODIFIED:20240209T185431Z
UID:10000135-1717784100-1717784100@settlementmusic.org
SUMMARY:Student Recital (Settlement Music Online)
DESCRIPTION:
URL:https://settlementmusic.org/event/student-recital-settlement-music-online-2/
LOCATION:Settlement Music Online
CATEGORIES:Settlement Music Online
END:VEVENT
BEGIN:VEVENT
DTSTART;TZID=America/New_York:20240607T190000
DTEND;TZID=America/New_York:20240607T190000
DTSTAMP:20260424T125913
CREATED:20231002T170533Z
LAST-MODIFIED:20231002T170533Z
UID:10000126-1717786800-1717786800@settlementmusic.org
SUMMARY:Student Recital (Willow Grove)
DESCRIPTION:
URL:https://settlementmusic.org/event/student-recital-willow-grove-8/
LOCATION:Willow Grove Branch\, 318 Davisville Road\, Willow Grove\, PA\, 19090\, United States
CATEGORIES:Willow Grove
END:VEVENT
BEGIN:VEVENT
DTSTART;TZID=America/New_York:20240608T100000
DTEND;TZID=America/New_York:20240608T100000
DTSTAMP:20260424T125913
CREATED:20231002T164640Z
LAST-MODIFIED:20231002T164640Z
UID:10000062-1717840800-1717840800@settlementmusic.org
SUMMARY:Performance Hour (Germantown)
DESCRIPTION:
URL:https://settlementmusic.org/event/performance-hour-germantown-8/
LOCATION:Benoliel-Germantown Branch\, 6128 Germantown Ave\, Philadelphia\, PA\, 19144\, United States
CATEGORIES:Germantown
END:VEVENT
BEGIN:VEVENT
DTSTART;TZID=America/New_York:20240608T110000
DTEND;TZID=America/New_York:20240608T110000
DTSTAMP:20260424T125913
CREATED:20231002T164818Z
LAST-MODIFIED:20240408T164416Z
UID:10000073-1717844400-1717844400@settlementmusic.org
SUMMARY:Ballet Recital (Kardon-Northeast)
DESCRIPTION:
URL:https://settlementmusic.org/event/ballet-recital-kardon-northeast/
LOCATION:Kardon-Northeast Branch\, 3745 Clarendon Avenue\, Philadelphia\, PA\, 19114\, United States
CATEGORIES:Kardon-Northeast
END:VEVENT
BEGIN:VEVENT
DTSTART;TZID=America/New_York:20240608T130000
DTEND;TZID=America/New_York:20240608T180000
DTSTAMP:20260424T125913
CREATED:20240509T204608Z
LAST-MODIFIED:20240509T204608Z
UID:10000192-1717851600-1717869600@settlementmusic.org
SUMMARY:Wynnefield Jazz Fest
DESCRIPTION:
URL:https://settlementmusic.org/event/wynnefield-jazz-fest/
LOCATION:Wynnefield Branch\, 4910 Wynnefield Avenue\, Philadelphia\, PA\, 19131\, United States
CATEGORIES:Concert,Workshop,Wynnefield
END:VEVENT
BEGIN:VEVENT
DTSTART;TZID=America/New_York:20240608T170000
DTEND;TZID=America/New_York:20240608T170000
DTSTAMP:20260424T125913
CREATED:20240523T182045Z
LAST-MODIFIED:20240523T182045Z
UID:10000199-1717866000-1717866000@settlementmusic.org
SUMMARY:Cellobration
DESCRIPTION:
URL:https://settlementmusic.org/event/cellobration/
LOCATION:Willow Grove Branch\, 318 Davisville Road\, Willow Grove\, PA\, 19090\, United States
CATEGORIES:Concert,Willow Grove
END:VEVENT
BEGIN:VEVENT
DTSTART;TZID=America/New_York:20240608T180000
DTEND;TZID=America/New_York:20240608T180000
DTSTAMP:20260424T125913
CREATED:20240227T155809Z
LAST-MODIFIED:20240523T182214Z
UID:10000178-1717869600-1717869600@settlementmusic.org
SUMMARY:PMAY Artists' Initiative Graduation Concert
DESCRIPTION:
URL:https://settlementmusic.org/event/pmay-graduation-concert/
LOCATION:Mary Louise Curtis Branch\, 416 Queen St.\, Philadelphia\, PA\, 19147\, United States
CATEGORIES:Concert,Mary Louise Curtis
ATTACH;FMTTYPE=image/jpeg:https://settlementmusic.org/app/uploads/2024/02/DSC_0762-X2.jpg
END:VEVENT
BEGIN:VEVENT
DTSTART;TZID=America/New_York:20240609T140000
DTEND;TZID=America/New_York:20240609T140000
DTSTAMP:20260424T125913
CREATED:20231002T164646Z
LAST-MODIFIED:20231002T164646Z
UID:10000063-1717941600-1717941600@settlementmusic.org
SUMMARY:Certification Recital (Germantown)
DESCRIPTION:
URL:https://settlementmusic.org/event/certification-recital-germantown/
LOCATION:Benoliel-Germantown Branch\, 6128 Germantown Ave\, Philadelphia\, PA\, 19144\, United States
CATEGORIES:Germantown
END:VEVENT
END:VCALENDAR