BEGIN:VCALENDAR
VERSION:2.0
PRODID:-//Settlement Music School - ECPv6.15.12.2//NONSGML v1.0//EN
CALSCALE:GREGORIAN
METHOD:PUBLISH
X-ORIGINAL-URL:https://settlementmusic.org
X-WR-CALDESC:Events for Settlement Music School
REFRESH-INTERVAL;VALUE=DURATION:PT1H
X-Robots-Tag:noindex
X-PUBLISHED-TTL:PT1H
BEGIN:VTIMEZONE
TZID:America/New_York
BEGIN:DAYLIGHT
TZOFFSETFROM:-0500
TZOFFSETTO:-0400
TZNAME:EDT
DTSTART:20230312T070000
END:DAYLIGHT
BEGIN:STANDARD
TZOFFSETFROM:-0400
TZOFFSETTO:-0500
TZNAME:EST
DTSTART:20231105T060000
END:STANDARD
BEGIN:DAYLIGHT
TZOFFSETFROM:-0500
TZOFFSETTO:-0400
TZNAME:EDT
DTSTART:20240310T070000
END:DAYLIGHT
BEGIN:STANDARD
TZOFFSETFROM:-0400
TZOFFSETTO:-0500
TZNAME:EST
DTSTART:20241103T060000
END:STANDARD
BEGIN:DAYLIGHT
TZOFFSETFROM:-0500
TZOFFSETTO:-0400
TZNAME:EDT
DTSTART:20250309T070000
END:DAYLIGHT
BEGIN:STANDARD
TZOFFSETFROM:-0400
TZOFFSETTO:-0500
TZNAME:EST
DTSTART:20251102T060000
END:STANDARD
END:VTIMEZONE
BEGIN:VEVENT
DTSTART;TZID=America/New_York:20240930T180000
DTEND;TZID=America/New_York:20240930T200000
DTSTAMP:20260422T180432
CREATED:20240927T191325Z
LAST-MODIFIED:20240927T191325Z
UID:10000752-1727719200-1727726400@settlementmusic.org
SUMMARY:PMAY Masterclass: Natasha Brofsky
DESCRIPTION:
URL:https://settlementmusic.org/event/pmay-masterclass-natasha-brofsky/
LOCATION:Mary Louise Curtis Branch\, 416 Queen St.\, Philadelphia\, PA\, 19147\, United States
CATEGORIES:Workshop
ORGANIZER;CN="PMAY Artists' Initiative":MAILTO:najib.wong@pmayartists.org
END:VEVENT
BEGIN:VEVENT
DTSTART;VALUE=DATE:20241002
DTEND;VALUE=DATE:20241003
DTSTAMP:20260422T180432
CREATED:20240729T182059Z
LAST-MODIFIED:20240729T182059Z
UID:10000720-1727827200-1727913599@settlementmusic.org
SUMMARY:Rosh Hashanah | All Branches & Offices Closed at 5pm
DESCRIPTION:
URL:https://settlementmusic.org/event/rosh-hashanah-all-branches-offices-closed-at-5pm/
LOCATION:All Branches\, PA\, United States
CATEGORIES:Holidays
END:VEVENT
BEGIN:VEVENT
DTSTART;VALUE=DATE:20241003
DTEND;VALUE=DATE:20241004
DTSTAMP:20260422T180432
CREATED:20240729T182107Z
LAST-MODIFIED:20240729T182107Z
UID:10000721-1727913600-1727999999@settlementmusic.org
SUMMARY:Rosh Hashanah | All Branches & Offices Closed
DESCRIPTION:
URL:https://settlementmusic.org/event/rosh-hashanah-all-branches-offices-closed/
LOCATION:All Branches\, PA\, United States
CATEGORIES:Holidays
END:VEVENT
BEGIN:VEVENT
DTSTART;TZID=America/New_York:20241004T190000
DTEND;TZID=America/New_York:20241004T190000
DTSTAMP:20260422T180432
CREATED:20240729T172606Z
LAST-MODIFIED:20240729T172606Z
UID:10000579-1728068400-1728068400@settlementmusic.org
SUMMARY:Performance Hour (Willow Grove)
DESCRIPTION:
URL:https://settlementmusic.org/event/performance-hour-willow-grove-8/
LOCATION:Willow Grove Branch\, 318 Davisville Road\, Willow Grove\, PA\, 19090\, United States
CATEGORIES:Willow Grove
END:VEVENT
BEGIN:VEVENT
DTSTART;TZID=America/New_York:20241005T130000
DTEND;TZID=America/New_York:20241005T130000
DTSTAMP:20260422T180432
CREATED:20240729T173303Z
LAST-MODIFIED:20240729T173303Z
UID:10000614-1728133200-1728133200@settlementmusic.org
SUMMARY:Accompanied Performance Hour (Mary Louise Curtis)
DESCRIPTION:
URL:https://settlementmusic.org/event/accompanied-performance-hour-mary-louise-curtis-15/
LOCATION:Mary Louise Curtis Branch\, 416 Queen St.\, Philadelphia\, PA\, 19147\, United States
CATEGORIES:Mary Louise Curtis
END:VEVENT
BEGIN:VEVENT
DTSTART;TZID=America/New_York:20241006T150000
DTEND;TZID=America/New_York:20241006T150000
DTSTAMP:20260422T180432
CREATED:20240729T174421Z
LAST-MODIFIED:20240729T174421Z
UID:10000677-1728226800-1728226800@settlementmusic.org
SUMMARY:Network for New Music Concert
DESCRIPTION:
URL:https://settlementmusic.org/event/network-for-new-music-concert/
LOCATION:Benoliel-Germantown Branch\, 6128 Germantown Ave\, Philadelphia\, PA\, 19144\, United States
CATEGORIES:Germantown
END:VEVENT
END:VCALENDAR