BEGIN:VCALENDAR
VERSION:2.0
PRODID:-//Settlement Music School - ECPv6.15.12.2//NONSGML v1.0//EN
CALSCALE:GREGORIAN
METHOD:PUBLISH
X-WR-CALNAME:Settlement Music School
X-ORIGINAL-URL:https://settlementmusic.org
X-WR-CALDESC:Events for Settlement Music School
REFRESH-INTERVAL;VALUE=DURATION:PT1H
X-Robots-Tag:noindex
X-PUBLISHED-TTL:PT1H
BEGIN:VTIMEZONE
TZID:America/New_York
BEGIN:DAYLIGHT
TZOFFSETFROM:-0500
TZOFFSETTO:-0400
TZNAME:EDT
DTSTART:20230312T070000
END:DAYLIGHT
BEGIN:STANDARD
TZOFFSETFROM:-0400
TZOFFSETTO:-0500
TZNAME:EST
DTSTART:20231105T060000
END:STANDARD
BEGIN:DAYLIGHT
TZOFFSETFROM:-0500
TZOFFSETTO:-0400
TZNAME:EDT
DTSTART:20240310T070000
END:DAYLIGHT
BEGIN:STANDARD
TZOFFSETFROM:-0400
TZOFFSETTO:-0500
TZNAME:EST
DTSTART:20241103T060000
END:STANDARD
BEGIN:DAYLIGHT
TZOFFSETFROM:-0500
TZOFFSETTO:-0400
TZNAME:EDT
DTSTART:20250309T070000
END:DAYLIGHT
BEGIN:STANDARD
TZOFFSETFROM:-0400
TZOFFSETTO:-0500
TZNAME:EST
DTSTART:20251102T060000
END:STANDARD
END:VTIMEZONE
BEGIN:VEVENT
DTSTART;TZID=America/New_York:20241009T190000
DTEND;TZID=America/New_York:20241009T190000
DTSTAMP:20260422T164104
CREATED:20241007T183051Z
LAST-MODIFIED:20241008T140914Z
UID:10000759-1728500400-1728500400@settlementmusic.org
SUMMARY:Music for People Performance Ensemble Concert
DESCRIPTION:
URL:https://settlementmusic.org/event/music-for-people-performance-ensemble-concert/
LOCATION:Willow Grove Branch\, 318 Davisville Road\, Willow Grove\, PA\, 19090\, United States
CATEGORIES:Concert,Willow Grove
ATTACH;FMTTYPE=image/png:https://settlementmusic.org/app/uploads/2024/10/MfP-ensemble-concert-10.9.24.png
END:VEVENT
BEGIN:VEVENT
DTSTART;TZID=America/New_York:20241010T190000
DTEND;TZID=America/New_York:20241010T190000
DTSTAMP:20260422T164104
CREATED:20240729T173319Z
LAST-MODIFIED:20240729T173319Z
UID:10000615-1728586800-1728586800@settlementmusic.org
SUMMARY:Unaccompanied Performance Hour (Mary Louise Curtis)
DESCRIPTION:
URL:https://settlementmusic.org/event/unaccompanied-performance-hour-mary-louise-curtis-15/
LOCATION:Mary Louise Curtis Branch\, 416 Queen St.\, Philadelphia\, PA\, 19147\, United States
CATEGORIES:Mary Louise Curtis
END:VEVENT
BEGIN:VEVENT
DTSTART;VALUE=DATE:20241011
DTEND;VALUE=DATE:20241012
DTSTAMP:20260422T164104
CREATED:20240729T182115Z
LAST-MODIFIED:20240729T182115Z
UID:10000722-1728604800-1728691199@settlementmusic.org
SUMMARY:Yom Kippur | All Branches\, Kaleidoscope Program & Offices Closed
DESCRIPTION:
URL:https://settlementmusic.org/event/yom-kippur-all-branches-kaleidoscope-program-offices-closed/
LOCATION:All Branches\, PA\, United States
CATEGORIES:Holidays
END:VEVENT
BEGIN:VEVENT
DTSTART;VALUE=DATE:20241012
DTEND;VALUE=DATE:20241013
DTSTAMP:20260422T164104
CREATED:20240729T182124Z
LAST-MODIFIED:20240729T182124Z
UID:10000723-1728691200-1728777599@settlementmusic.org
SUMMARY:Yom Kippur | All Branches\, Kaleidoscope Program & Offices Closed
DESCRIPTION:
URL:https://settlementmusic.org/event/yom-kippur-all-branches-kaleidoscope-program-offices-closed-2/
LOCATION:All Branches\, PA\, United States
CATEGORIES:Holidays
END:VEVENT
END:VCALENDAR