BEGIN:VCALENDAR
VERSION:2.0
PRODID:-//Settlement Music School - ECPv6.15.12.2//NONSGML v1.0//EN
CALSCALE:GREGORIAN
METHOD:PUBLISH
X-WR-CALNAME:Settlement Music School
X-ORIGINAL-URL:https://settlementmusic.org
X-WR-CALDESC:Events for Settlement Music School
REFRESH-INTERVAL;VALUE=DURATION:PT1H
X-Robots-Tag:noindex
X-PUBLISHED-TTL:PT1H
BEGIN:VTIMEZONE
TZID:America/New_York
BEGIN:DAYLIGHT
TZOFFSETFROM:-0500
TZOFFSETTO:-0400
TZNAME:EDT
DTSTART:20230312T070000
END:DAYLIGHT
BEGIN:STANDARD
TZOFFSETFROM:-0400
TZOFFSETTO:-0500
TZNAME:EST
DTSTART:20231105T060000
END:STANDARD
BEGIN:DAYLIGHT
TZOFFSETFROM:-0500
TZOFFSETTO:-0400
TZNAME:EDT
DTSTART:20240310T070000
END:DAYLIGHT
BEGIN:STANDARD
TZOFFSETFROM:-0400
TZOFFSETTO:-0500
TZNAME:EST
DTSTART:20241103T060000
END:STANDARD
BEGIN:DAYLIGHT
TZOFFSETFROM:-0500
TZOFFSETTO:-0400
TZNAME:EDT
DTSTART:20250309T070000
END:DAYLIGHT
BEGIN:STANDARD
TZOFFSETFROM:-0400
TZOFFSETTO:-0500
TZNAME:EST
DTSTART:20251102T060000
END:STANDARD
END:VTIMEZONE
BEGIN:VEVENT
DTSTART;TZID=America/New_York:20241028T190000
DTEND;TZID=America/New_York:20241028T190000
DTSTAMP:20260422T140804
CREATED:20240729T173343Z
LAST-MODIFIED:20240729T173343Z
UID:10000618-1730142000-1730142000@settlementmusic.org
SUMMARY:Unaccompanied Performance Hour (Mary Louise Curtis)
DESCRIPTION:
URL:https://settlementmusic.org/event/unaccompanied-performance-hour-mary-louise-curtis-16/
LOCATION:Mary Louise Curtis Branch\, 416 Queen St.\, Philadelphia\, PA\, 19147\, United States
CATEGORIES:Mary Louise Curtis
END:VEVENT
BEGIN:VEVENT
DTSTART;TZID=America/New_York:20241028T190000
DTEND;TZID=America/New_York:20241028T190000
DTSTAMP:20260422T140804
CREATED:20240729T174451Z
LAST-MODIFIED:20240729T174451Z
UID:10000680-1730142000-1730142000@settlementmusic.org
SUMMARY:Unaccompanied Performance Hour (Germantown)
DESCRIPTION:
URL:https://settlementmusic.org/event/unaccompanied-performance-hour-germantown/
LOCATION:Benoliel-Germantown Branch\, 6128 Germantown Ave\, Philadelphia\, PA\, 19144\, United States
CATEGORIES:Germantown
END:VEVENT
BEGIN:VEVENT
DTSTART;TZID=America/New_York:20241029T180000
DTEND;TZID=America/New_York:20241029T200000
DTSTAMP:20260422T140804
CREATED:20240927T191902Z
LAST-MODIFIED:20240927T191902Z
UID:10000755-1730224800-1730232000@settlementmusic.org
SUMMARY:PMAY Masterclass: Jordan Bak
DESCRIPTION:
URL:https://settlementmusic.org/event/pmay-masterclass-jordan-bak/
LOCATION:Mary Louise Curtis Branch\, 416 Queen St.\, Philadelphia\, PA\, 19147\, United States
CATEGORIES:Workshop
ORGANIZER;CN="PMAY Artists' Initiative":MAILTO:najib.wong@pmayartists.org
END:VEVENT
BEGIN:VEVENT
DTSTART;TZID=America/New_York:20241031T170000
DTEND;TZID=America/New_York:20241031T170000
DTSTAMP:20260422T140804
CREATED:20240729T173404Z
LAST-MODIFIED:20241022T141357Z
UID:10000619-1730394000-1730394000@settlementmusic.org
SUMMARY:Halloween Hang-Out at Mary Louise Curtis Branch
DESCRIPTION:
URL:https://settlementmusic.org/event/halloween-hang-out-at-mary-louise-curtis-branch/
LOCATION:Mary Louise Curtis Branch\, 416 Queen St.\, Philadelphia\, PA\, 19147\, United States
CATEGORIES:Mary Louise Curtis
ATTACH;FMTTYPE=image/jpeg:https://settlementmusic.org/app/uploads/2024/07/Halloween-Hangout-MLC-Poster.jpg
END:VEVENT
BEGIN:VEVENT
DTSTART;TZID=America/New_York:20241102T100000
DTEND;TZID=America/New_York:20241102T100000
DTSTAMP:20260422T140804
CREATED:20240729T174151Z
LAST-MODIFIED:20240729T174151Z
UID:10000660-1730541600-1730541600@settlementmusic.org
SUMMARY:Performance Hour (Kardon-Northeast)
DESCRIPTION:
URL:https://settlementmusic.org/event/performance-hour-kardon-northeast-11/
LOCATION:Kardon-Northeast Branch\, 3745 Clarendon Avenue\, Philadelphia\, PA\, 19114\, United States
CATEGORIES:Kardon-Northeast
END:VEVENT
BEGIN:VEVENT
DTSTART;TZID=America/New_York:20241102T130000
DTEND;TZID=America/New_York:20241102T130000
DTSTAMP:20260422T140804
CREATED:20240729T173412Z
LAST-MODIFIED:20240729T173412Z
UID:10000620-1730552400-1730552400@settlementmusic.org
SUMMARY:Accompanied Performance Hour (Mary Louise Curtis)
DESCRIPTION:
URL:https://settlementmusic.org/event/accompanied-performance-hour-mary-louise-curtis-17/
LOCATION:Mary Louise Curtis Branch\, 416 Queen St.\, Philadelphia\, PA\, 19147\, United States
CATEGORIES:Mary Louise Curtis
END:VEVENT
END:VCALENDAR