BEGIN:VCALENDAR
VERSION:2.0
PRODID:-//Settlement Music School - ECPv6.15.12.2//NONSGML v1.0//EN
CALSCALE:GREGORIAN
METHOD:PUBLISH
X-WR-CALNAME:Settlement Music School
X-ORIGINAL-URL:https://settlementmusic.org
X-WR-CALDESC:Events for Settlement Music School
REFRESH-INTERVAL;VALUE=DURATION:PT1H
X-Robots-Tag:noindex
X-PUBLISHED-TTL:PT1H
BEGIN:VTIMEZONE
TZID:America/New_York
BEGIN:DAYLIGHT
TZOFFSETFROM:-0500
TZOFFSETTO:-0400
TZNAME:EDT
DTSTART:20230312T070000
END:DAYLIGHT
BEGIN:STANDARD
TZOFFSETFROM:-0400
TZOFFSETTO:-0500
TZNAME:EST
DTSTART:20231105T060000
END:STANDARD
BEGIN:DAYLIGHT
TZOFFSETFROM:-0500
TZOFFSETTO:-0400
TZNAME:EDT
DTSTART:20240310T070000
END:DAYLIGHT
BEGIN:STANDARD
TZOFFSETFROM:-0400
TZOFFSETTO:-0500
TZNAME:EST
DTSTART:20241103T060000
END:STANDARD
BEGIN:DAYLIGHT
TZOFFSETFROM:-0500
TZOFFSETTO:-0400
TZNAME:EDT
DTSTART:20250309T070000
END:DAYLIGHT
BEGIN:STANDARD
TZOFFSETFROM:-0400
TZOFFSETTO:-0500
TZNAME:EST
DTSTART:20251102T060000
END:STANDARD
END:VTIMEZONE
BEGIN:VEVENT
DTSTART;VALUE=DATE:20241105
DTEND;VALUE=DATE:20241106
DTSTAMP:20260422T152258
CREATED:20240729T182148Z
LAST-MODIFIED:20240729T182148Z
UID:10000724-1730764800-1730851199@settlementmusic.org
SUMMARY:Election Day | No Kaleidoscope Program
DESCRIPTION:
URL:https://settlementmusic.org/event/election-day-no-kaleidoscope-program/
LOCATION:All Branches\, PA\, United States
CATEGORIES:Holidays
END:VEVENT
BEGIN:VEVENT
DTSTART;TZID=America/New_York:20241107T190000
DTEND;TZID=America/New_York:20241107T190000
DTSTAMP:20260422T152258
CREATED:20240729T173419Z
LAST-MODIFIED:20240729T173419Z
UID:10000621-1731006000-1731006000@settlementmusic.org
SUMMARY:Unaccompanied Performance Hour (Mary Louise Curtis)
DESCRIPTION:
URL:https://settlementmusic.org/event/unaccompanied-performance-hour-mary-louise-curtis-17/
LOCATION:Mary Louise Curtis Branch\, 416 Queen St.\, Philadelphia\, PA\, 19147\, United States
CATEGORIES:Mary Louise Curtis
END:VEVENT
BEGIN:VEVENT
DTSTART;TZID=America/New_York:20241109T100000
DTEND;TZID=America/New_York:20241109T110000
DTSTAMP:20260422T152258
CREATED:20240729T172619Z
LAST-MODIFIED:20240906T190401Z
UID:10000581-1731146400-1731150000@settlementmusic.org
SUMMARY:Performance Hour (Willow Grove)
DESCRIPTION:
URL:https://settlementmusic.org/event/performance-hour-willow-grove-9/
LOCATION:Willow Grove Branch\, 318 Davisville Road\, Willow Grove\, PA\, 19090\, United States
CATEGORIES:Willow Grove
END:VEVENT
BEGIN:VEVENT
DTSTART;TZID=America/New_York:20241110T110000
DTEND;TZID=America/New_York:20241110T180000
DTSTAMP:20260422T152258
CREATED:20241004T141209Z
LAST-MODIFIED:20241007T190004Z
UID:10000757-1731236400-1731261600@settlementmusic.org
SUMMARY:The Metropolitan Opera - Eric and Dominique Laffont Competition
DESCRIPTION:
URL:https://settlementmusic.org/event/the-metropolitan-opera-eric-and-dominique-laffont-competition/
LOCATION:Mary Louise Curtis Branch\, 416 Queen St.\, Philadelphia\, PA\, 19147\, United States
CATEGORIES:Concert,Mary Louise Curtis
ATTACH;FMTTYPE=image/jpeg:https://settlementmusic.org/app/uploads/2024/10/Opera-Audition-Image.jpg
END:VEVENT
END:VCALENDAR