BEGIN:VCALENDAR
VERSION:2.0
PRODID:-//Settlement Music School - ECPv6.15.12.2//NONSGML v1.0//EN
CALSCALE:GREGORIAN
METHOD:PUBLISH
X-WR-CALNAME:Settlement Music School
X-ORIGINAL-URL:https://settlementmusic.org
X-WR-CALDESC:Events for Settlement Music School
REFRESH-INTERVAL;VALUE=DURATION:PT1H
X-Robots-Tag:noindex
X-PUBLISHED-TTL:PT1H
BEGIN:VTIMEZONE
TZID:America/New_York
BEGIN:DAYLIGHT
TZOFFSETFROM:-0500
TZOFFSETTO:-0400
TZNAME:EDT
DTSTART:20230312T070000
END:DAYLIGHT
BEGIN:STANDARD
TZOFFSETFROM:-0400
TZOFFSETTO:-0500
TZNAME:EST
DTSTART:20231105T060000
END:STANDARD
BEGIN:DAYLIGHT
TZOFFSETFROM:-0500
TZOFFSETTO:-0400
TZNAME:EDT
DTSTART:20240310T070000
END:DAYLIGHT
BEGIN:STANDARD
TZOFFSETFROM:-0400
TZOFFSETTO:-0500
TZNAME:EST
DTSTART:20241103T060000
END:STANDARD
BEGIN:DAYLIGHT
TZOFFSETFROM:-0500
TZOFFSETTO:-0400
TZNAME:EDT
DTSTART:20250309T070000
END:DAYLIGHT
BEGIN:STANDARD
TZOFFSETFROM:-0400
TZOFFSETTO:-0500
TZNAME:EST
DTSTART:20251102T060000
END:STANDARD
END:VTIMEZONE
BEGIN:VEVENT
DTSTART;TZID=America/New_York:20241125T190000
DTEND;TZID=America/New_York:20241125T190000
DTSTAMP:20260422T125057
CREATED:20240729T173504Z
LAST-MODIFIED:20240729T173504Z
UID:10000624-1732561200-1732561200@settlementmusic.org
SUMMARY:Unaccompanied Performance Hour (Mary Louise Curtis)
DESCRIPTION:
URL:https://settlementmusic.org/event/unaccompanied-performance-hour-mary-louise-curtis-18/
LOCATION:Mary Louise Curtis Branch\, 416 Queen St.\, Philadelphia\, PA\, 19147\, United States
CATEGORIES:Mary Louise Curtis
END:VEVENT
BEGIN:VEVENT
DTSTART;TZID=America/New_York:20241125T190000
DTEND;TZID=America/New_York:20241125T190000
DTSTAMP:20260422T125057
CREATED:20240729T174529Z
LAST-MODIFIED:20240729T174529Z
UID:10000684-1732561200-1732561200@settlementmusic.org
SUMMARY:Unaccompanied Performance Hour (Germantown)
DESCRIPTION:
URL:https://settlementmusic.org/event/unaccompanied-performance-hour-germantown-2/
LOCATION:Benoliel-Germantown Branch\, 6128 Germantown Ave\, Philadelphia\, PA\, 19144\, United States
CATEGORIES:Germantown
END:VEVENT
BEGIN:VEVENT
DTSTART;VALUE=DATE:20241128
DTEND;VALUE=DATE:20241129
DTSTAMP:20260422T125057
CREATED:20240729T182205Z
LAST-MODIFIED:20240729T182205Z
UID:10000726-1732752000-1732838399@settlementmusic.org
SUMMARY:Thanksgiving | All Branches\, Kaleidoscope Program & Offices Closed
DESCRIPTION:
URL:https://settlementmusic.org/event/thanksgiving-all-branches-kaleidoscope-program-offices-closed/
LOCATION:All Branches\, PA\, United States
CATEGORIES:Holidays
END:VEVENT
BEGIN:VEVENT
DTSTART;VALUE=DATE:20241129
DTEND;VALUE=DATE:20241130
DTSTAMP:20260422T125057
CREATED:20240729T182212Z
LAST-MODIFIED:20240729T182212Z
UID:10000727-1732838400-1732924799@settlementmusic.org
SUMMARY:Thanksgiving | All Branches\, Kaleidoscope Program & Offices Closed
DESCRIPTION:
URL:https://settlementmusic.org/event/thanksgiving-all-branches-kaleidoscope-program-offices-closed-2/
LOCATION:All Branches\, PA\, United States
CATEGORIES:Holidays
END:VEVENT
BEGIN:VEVENT
DTSTART;VALUE=DATE:20241130
DTEND;VALUE=DATE:20241201
DTSTAMP:20260422T125057
CREATED:20240729T182219Z
LAST-MODIFIED:20240729T182219Z
UID:10000728-1732924800-1733011199@settlementmusic.org
SUMMARY:Thanksgiving | All Branches\, Kaleidoscope Program & Offices Closed
DESCRIPTION:
URL:https://settlementmusic.org/event/thanksgiving-all-branches-kaleidoscope-program-offices-closed-3/
LOCATION:All Branches\, PA\, United States
CATEGORIES:Holidays
END:VEVENT
END:VCALENDAR