BEGIN:VCALENDAR
VERSION:2.0
PRODID:-//Settlement Music School - ECPv6.15.12.2//NONSGML v1.0//EN
CALSCALE:GREGORIAN
METHOD:PUBLISH
X-WR-CALNAME:Settlement Music School
X-ORIGINAL-URL:https://settlementmusic.org
X-WR-CALDESC:Events for Settlement Music School
REFRESH-INTERVAL;VALUE=DURATION:PT1H
X-Robots-Tag:noindex
X-PUBLISHED-TTL:PT1H
BEGIN:VTIMEZONE
TZID:America/New_York
BEGIN:DAYLIGHT
TZOFFSETFROM:-0500
TZOFFSETTO:-0400
TZNAME:EDT
DTSTART:20240310T070000
END:DAYLIGHT
BEGIN:STANDARD
TZOFFSETFROM:-0400
TZOFFSETTO:-0500
TZNAME:EST
DTSTART:20241103T060000
END:STANDARD
BEGIN:DAYLIGHT
TZOFFSETFROM:-0500
TZOFFSETTO:-0400
TZNAME:EDT
DTSTART:20250309T070000
END:DAYLIGHT
BEGIN:STANDARD
TZOFFSETFROM:-0400
TZOFFSETTO:-0500
TZNAME:EST
DTSTART:20251102T060000
END:STANDARD
BEGIN:DAYLIGHT
TZOFFSETFROM:-0500
TZOFFSETTO:-0400
TZNAME:EDT
DTSTART:20260308T070000
END:DAYLIGHT
BEGIN:STANDARD
TZOFFSETFROM:-0400
TZOFFSETTO:-0500
TZNAME:EST
DTSTART:20261101T060000
END:STANDARD
END:VTIMEZONE
BEGIN:VEVENT
DTSTART;VALUE=DATE:20250120
DTEND;VALUE=DATE:20250121
DTSTAMP:20260422T112832
CREATED:20240729T182359Z
LAST-MODIFIED:20240729T182359Z
UID:10000737-1737331200-1737417599@settlementmusic.org
SUMMARY:Martin Luther King\, Jr. Day | All Branches\, Kaleidoscope Program & Offices Closed
DESCRIPTION:
URL:https://settlementmusic.org/event/martin-luther-king-jr-day-all-branches-kaleidoscope-program-offices-closed/
LOCATION:All Branches\, PA\, United States
CATEGORIES:Holidays
END:VEVENT
BEGIN:VEVENT
DTSTART;TZID=America/New_York:20250121T190000
DTEND;TZID=America/New_York:20250121T190000
DTSTAMP:20260422T112832
CREATED:20240729T174634Z
LAST-MODIFIED:20241015T181930Z
UID:10000692-1737486000-1737486000@settlementmusic.org
SUMMARY:Jazz Bridge Community Concert - Artist TBA
DESCRIPTION:
URL:https://settlementmusic.org/event/jazz-bridge-community-concert-artist-tba-4/
LOCATION:Benoliel-Germantown Branch\, 6128 Germantown Ave\, Philadelphia\, PA\, 19144\, United States
CATEGORIES:Germantown
END:VEVENT
BEGIN:VEVENT
DTSTART;TZID=America/New_York:20250125T110000
DTEND;TZID=America/New_York:20250125T110000
DTSTAMP:20260422T112832
CREATED:20240729T173015Z
LAST-MODIFIED:20240729T173015Z
UID:10000601-1737802800-1737802800@settlementmusic.org
SUMMARY:Performance Hour (Wynnefield)
DESCRIPTION:
URL:https://settlementmusic.org/event/performance-hour-wynnefield-18/
LOCATION:Wynnefield Branch\, 4910 Wynnefield Avenue\, Philadelphia\, PA\, 19131\, United States
CATEGORIES:Wynnefield
END:VEVENT
BEGIN:VEVENT
DTSTART;TZID=America/New_York:20250125T130000
DTEND;TZID=America/New_York:20250125T130000
DTSTAMP:20260422T112832
CREATED:20240729T173717Z
LAST-MODIFIED:20240729T173717Z
UID:10000635-1737810000-1737810000@settlementmusic.org
SUMMARY:Accompanied Performance Hour (Mary Louise Curtis)
DESCRIPTION:
URL:https://settlementmusic.org/event/accompanied-performance-hour-mary-louise-curtis-21/
LOCATION:Mary Louise Curtis Branch\, 416 Queen St.\, Philadelphia\, PA\, 19147\, United States
CATEGORIES:Mary Louise Curtis
END:VEVENT
BEGIN:VEVENT
DTSTART;TZID=America/New_York:20250125T150000
DTEND;TZID=America/New_York:20250125T150000
DTSTAMP:20260422T112832
CREATED:20240729T173723Z
LAST-MODIFIED:20240729T173723Z
UID:10000636-1737817200-1737817200@settlementmusic.org
SUMMARY:Student Recital (Mary Louise Curtis)
DESCRIPTION:
URL:https://settlementmusic.org/event/student-recital-mary-louise-curtis-12/
LOCATION:Mary Louise Curtis Branch\, 416 Queen St.\, Philadelphia\, PA\, 19147\, United States
CATEGORIES:Mary Louise Curtis
END:VEVENT
BEGIN:VEVENT
DTSTART;TZID=America/New_York:20250126T140000
DTEND;TZID=America/New_York:20250126T140000
DTSTAMP:20260422T112832
CREATED:20250121T204416Z
LAST-MODIFIED:20250121T204416Z
UID:10000780-1737900000-1737900000@settlementmusic.org
SUMMARY:Adult Orchestra Concert
DESCRIPTION:
URL:https://settlementmusic.org/event/adult-orchestra-concert-4/
LOCATION:Willow Grove Branch\, 318 Davisville Road\, Willow Grove\, PA\, 19090\, United States
CATEGORIES:Willow Grove
ATTACH;FMTTYPE=image/png:https://settlementmusic.org/app/uploads/2025/01/AO-Concert-Jan-2025.png
END:VEVENT
END:VCALENDAR