BEGIN:VCALENDAR
VERSION:2.0
PRODID:-//Settlement Music School - ECPv6.15.12.2//NONSGML v1.0//EN
CALSCALE:GREGORIAN
METHOD:PUBLISH
X-ORIGINAL-URL:https://settlementmusic.org
X-WR-CALDESC:Events for Settlement Music School
REFRESH-INTERVAL;VALUE=DURATION:PT1H
X-Robots-Tag:noindex
X-PUBLISHED-TTL:PT1H
BEGIN:VTIMEZONE
TZID:America/New_York
BEGIN:DAYLIGHT
TZOFFSETFROM:-0500
TZOFFSETTO:-0400
TZNAME:EDT
DTSTART:20240310T070000
END:DAYLIGHT
BEGIN:STANDARD
TZOFFSETFROM:-0400
TZOFFSETTO:-0500
TZNAME:EST
DTSTART:20241103T060000
END:STANDARD
BEGIN:DAYLIGHT
TZOFFSETFROM:-0500
TZOFFSETTO:-0400
TZNAME:EDT
DTSTART:20250309T070000
END:DAYLIGHT
BEGIN:STANDARD
TZOFFSETFROM:-0400
TZOFFSETTO:-0500
TZNAME:EST
DTSTART:20251102T060000
END:STANDARD
BEGIN:DAYLIGHT
TZOFFSETFROM:-0500
TZOFFSETTO:-0400
TZNAME:EDT
DTSTART:20260308T070000
END:DAYLIGHT
BEGIN:STANDARD
TZOFFSETFROM:-0400
TZOFFSETTO:-0500
TZNAME:EST
DTSTART:20261101T060000
END:STANDARD
END:VTIMEZONE
BEGIN:VEVENT
DTSTART;VALUE=DATE:20250217
DTEND;VALUE=DATE:20250218
DTSTAMP:20260422T094107
CREATED:20240729T182410Z
LAST-MODIFIED:20240729T182410Z
UID:10000738-1739750400-1739836799@settlementmusic.org
SUMMARY:Presidents’ Day | No Kaleidoscope Program
DESCRIPTION:
URL:https://settlementmusic.org/event/presidents-day-no-kaleidoscope-program/
LOCATION:All Branches\, PA\, United States
CATEGORIES:Holidays
END:VEVENT
BEGIN:VEVENT
DTSTART;TZID=America/New_York:20250217T190000
DTEND;TZID=America/New_York:20250217T190000
DTSTAMP:20260422T094107
CREATED:20240729T173825Z
LAST-MODIFIED:20240729T173825Z
UID:10000641-1739818800-1739818800@settlementmusic.org
SUMMARY:Unaccompanied Performance Hour (Mary Louise Curtis)
DESCRIPTION:
URL:https://settlementmusic.org/event/unaccompanied-performance-hour-mary-louise-curtis-25/
LOCATION:Mary Louise Curtis Branch\, 416 Queen St.\, Philadelphia\, PA\, 19147\, United States
CATEGORIES:Mary Louise Curtis
END:VEVENT
BEGIN:VEVENT
DTSTART;TZID=America/New_York:20250217T193000
DTEND;TZID=America/New_York:20250217T193000
DTSTAMP:20260422T094107
CREATED:20240729T173034Z
LAST-MODIFIED:20240911T180337Z
UID:10000603-1739820600-1739820600@settlementmusic.org
SUMMARY:Performance Hour (Wynnefield)
DESCRIPTION:
URL:https://settlementmusic.org/event/performance-hour-wynnefield-20/
LOCATION:Wynnefield Branch\, 4910 Wynnefield Avenue\, Philadelphia\, PA\, 19131\, United States
CATEGORIES:Wynnefield
END:VEVENT
BEGIN:VEVENT
DTSTART;TZID=America/New_York:20250218T190000
DTEND;TZID=America/New_York:20250218T190000
DTSTAMP:20260422T094107
CREATED:20240729T174710Z
LAST-MODIFIED:20250214T163613Z
UID:10000695-1739905200-1739905200@settlementmusic.org
SUMMARY:Jazz Bridge Community Concert - Bassist Richard Hill
DESCRIPTION:
URL:https://settlementmusic.org/event/jazz-bridge-community-concert-artist-tba-5/
LOCATION:Benoliel-Germantown Branch\, 6128 Germantown Ave\, Philadelphia\, PA\, 19144\, United States
CATEGORIES:Germantown
ATTACH;FMTTYPE=image/jpeg:https://settlementmusic.org/app/uploads/2024/07/Richard-Hill-Jr.-3.jpg
ORGANIZER;CN="Jazz Bridge":MAILTO:info@jazzbridge.org
END:VEVENT
BEGIN:VEVENT
DTSTART;TZID=America/New_York:20250219T190000
DTEND;TZID=America/New_York:20250219T190000
DTSTAMP:20260422T094107
CREATED:20240729T174254Z
LAST-MODIFIED:20240729T174254Z
UID:10000668-1739991600-1739991600@settlementmusic.org
SUMMARY:Student Recital (Kardon-Northeast)
DESCRIPTION:
URL:https://settlementmusic.org/event/student-recital-kardon-northeast-9/
LOCATION:Kardon-Northeast Branch\, 3745 Clarendon Avenue\, Philadelphia\, PA\, 19114\, United States
CATEGORIES:Kardon-Northeast
END:VEVENT
BEGIN:VEVENT
DTSTART;TZID=America/New_York:20250220T160000
DTEND;TZID=America/New_York:20250220T180000
DTSTAMP:20260422T094107
CREATED:20241211T222627Z
LAST-MODIFIED:20250205T175159Z
UID:10000773-1740067200-1740074400@settlementmusic.org
SUMMARY:PCMS Masterclass: Pianist Lydia Artymiw
DESCRIPTION:
URL:https://settlementmusic.org/event/pcms-masterclass-pianist-lydia-artymiw/
LOCATION:Mary Louise Curtis Branch\, 416 Queen St.\, Philadelphia\, PA\, 19147\, United States
CATEGORIES:Workshop
ATTACH;FMTTYPE=image/jpeg:https://settlementmusic.org/app/uploads/2024/12/5_lg.jpg
END:VEVENT
BEGIN:VEVENT
DTSTART;TZID=America/New_York:20250221T190000
DTEND;TZID=America/New_York:20250221T200000
DTSTAMP:20260422T094107
CREATED:20250107T174327Z
LAST-MODIFIED:20250107T174327Z
UID:10000776-1740164400-1740168000@settlementmusic.org
SUMMARY:Student Recital (Willow Grove)
DESCRIPTION:
URL:https://settlementmusic.org/event/student-recital-willow-grove-17/
LOCATION:Willow Grove Branch\, 318 Davisville Road\, Willow Grove\, PA\, 19090\, United States
CATEGORIES:Willow Grove
END:VEVENT
BEGIN:VEVENT
DTSTART;TZID=America/New_York:20250221T193000
DTEND;TZID=America/New_York:20250221T193000
DTSTAMP:20260422T094107
CREATED:20240729T174716Z
LAST-MODIFIED:20240729T174716Z
UID:10000696-1740166200-1740166200@settlementmusic.org
SUMMARY:Network for New Music Concert
DESCRIPTION:
URL:https://settlementmusic.org/event/network-for-new-music-concert-3/
LOCATION:Benoliel-Germantown Branch\, 6128 Germantown Ave\, Philadelphia\, PA\, 19144\, United States
CATEGORIES:Germantown
END:VEVENT
BEGIN:VEVENT
DTSTART;TZID=America/New_York:20250222T130000
DTEND;TZID=America/New_York:20250222T130000
DTSTAMP:20260422T094107
CREATED:20240729T173831Z
LAST-MODIFIED:20240729T173831Z
UID:10000642-1740229200-1740229200@settlementmusic.org
SUMMARY:Accompanied Performance Hour (Mary Louise Curtis)
DESCRIPTION:
URL:https://settlementmusic.org/event/accompanied-performance-hour-mary-louise-curtis-23/
LOCATION:Mary Louise Curtis Branch\, 416 Queen St.\, Philadelphia\, PA\, 19147\, United States
CATEGORIES:Mary Louise Curtis
END:VEVENT
BEGIN:VEVENT
DTSTART;TZID=America/New_York:20250222T150000
DTEND;TZID=America/New_York:20250222T150000
DTSTAMP:20260422T094107
CREATED:20240729T173837Z
LAST-MODIFIED:20240729T173837Z
UID:10000643-1740236400-1740236400@settlementmusic.org
SUMMARY:Student Recital (Mary Louise Curtis)
DESCRIPTION:
URL:https://settlementmusic.org/event/student-recital-mary-louise-curtis-13/
LOCATION:Mary Louise Curtis Branch\, 416 Queen St.\, Philadelphia\, PA\, 19147\, United States
CATEGORIES:Mary Louise Curtis
END:VEVENT
BEGIN:VEVENT
DTSTART;TZID=America/New_York:20250222T180000
DTEND;TZID=America/New_York:20250222T180000
DTSTAMP:20260422T094107
CREATED:20240722T200035Z
LAST-MODIFIED:20250220T150900Z
UID:10000577-1740247200-1740247200@settlementmusic.org
SUMMARY:PMAY Artists' Initiative Concert
DESCRIPTION:
URL:https://settlementmusic.org/event/pmay-artists-initiative-concert-2/
LOCATION:Mary Louise Curtis Branch\, 416 Queen St.\, Philadelphia\, PA\, 19147\, United States
CATEGORIES:Concert,Mary Louise Curtis
ATTACH;FMTTYPE=image/png:https://settlementmusic.org/app/uploads/2024/07/PMAY-artists-showcase2.png
ORGANIZER;CN="PMAY Artists' Initiative":MAILTO:najib.wong@pmayartists.org
END:VEVENT
END:VCALENDAR