BEGIN:VCALENDAR
VERSION:2.0
PRODID:-//Settlement Music School - ECPv6.15.12.2//NONSGML v1.0//EN
CALSCALE:GREGORIAN
METHOD:PUBLISH
X-ORIGINAL-URL:https://settlementmusic.org
X-WR-CALDESC:Events for Settlement Music School
REFRESH-INTERVAL;VALUE=DURATION:PT1H
X-Robots-Tag:noindex
X-PUBLISHED-TTL:PT1H
BEGIN:VTIMEZONE
TZID:America/New_York
BEGIN:DAYLIGHT
TZOFFSETFROM:-0500
TZOFFSETTO:-0400
TZNAME:EDT
DTSTART:20240310T070000
END:DAYLIGHT
BEGIN:STANDARD
TZOFFSETFROM:-0400
TZOFFSETTO:-0500
TZNAME:EST
DTSTART:20241103T060000
END:STANDARD
BEGIN:DAYLIGHT
TZOFFSETFROM:-0500
TZOFFSETTO:-0400
TZNAME:EDT
DTSTART:20250309T070000
END:DAYLIGHT
BEGIN:STANDARD
TZOFFSETFROM:-0400
TZOFFSETTO:-0500
TZNAME:EST
DTSTART:20251102T060000
END:STANDARD
BEGIN:DAYLIGHT
TZOFFSETFROM:-0500
TZOFFSETTO:-0400
TZNAME:EDT
DTSTART:20260308T070000
END:DAYLIGHT
BEGIN:STANDARD
TZOFFSETFROM:-0400
TZOFFSETTO:-0500
TZNAME:EST
DTSTART:20261101T060000
END:STANDARD
END:VTIMEZONE
BEGIN:VEVENT
DTSTART;TZID=America/New_York:20250505T190000
DTEND;TZID=America/New_York:20250505T190000
DTSTAMP:20260422T063726
CREATED:20240729T172811Z
LAST-MODIFIED:20240729T172811Z
UID:10000591-1746471600-1746471600@settlementmusic.org
SUMMARY:Performance Hour (Willow Grove)
DESCRIPTION:
URL:https://settlementmusic.org/event/performance-hour-willow-grove-14/
LOCATION:Willow Grove Branch\, 318 Davisville Road\, Willow Grove\, PA\, 19090\, United States
CATEGORIES:Willow Grove
END:VEVENT
BEGIN:VEVENT
DTSTART;TZID=America/New_York:20250507T180000
DTEND;TZID=America/New_York:20250507T180000
DTSTAMP:20260422T063726
CREATED:20250213T191803Z
LAST-MODIFIED:20250328T172929Z
UID:10000795-1746640800-1746640800@settlementmusic.org
SUMMARY:PMAY Masterclass: Priscilla Lee\, Cello
DESCRIPTION:
URL:https://settlementmusic.org/event/pmay-masterclass-priscilla-lee-cello/
LOCATION:Wynnefield Branch\, 4910 Wynnefield Avenue\, Philadelphia\, PA\, 19131\, United States
CATEGORIES:Mary Louise Curtis,Workshop
ORGANIZER;CN="PMAY Artists' Initiative":MAILTO:najib.wong@pmayartists.org
END:VEVENT
BEGIN:VEVENT
DTSTART;TZID=America/New_York:20250508T190000
DTEND;TZID=America/New_York:20250508T190000
DTSTAMP:20260422T063726
CREATED:20240729T173957Z
LAST-MODIFIED:20240729T173957Z
UID:10000649-1746730800-1746730800@settlementmusic.org
SUMMARY:Certification Recital (Mary Louise Curtis)
DESCRIPTION:
URL:https://settlementmusic.org/event/certification-recital-mary-louise-curtis-2/
LOCATION:Mary Louise Curtis Branch\, 416 Queen St.\, Philadelphia\, PA\, 19147\, United States
CATEGORIES:Mary Louise Curtis
END:VEVENT
BEGIN:VEVENT
DTSTART;TZID=America/New_York:20250510T100000
DTEND;TZID=America/New_York:20250510T100000
DTSTAMP:20260422T063726
CREATED:20240729T174328Z
LAST-MODIFIED:20240729T174328Z
UID:10000671-1746871200-1746871200@settlementmusic.org
SUMMARY:Performance Hour (Kardon-Northeast)
DESCRIPTION:
URL:https://settlementmusic.org/event/performance-hour-kardon-northeast-17/
LOCATION:Kardon-Northeast Branch\, 3745 Clarendon Avenue\, Philadelphia\, PA\, 19114\, United States
CATEGORIES:Kardon-Northeast
END:VEVENT
BEGIN:VEVENT
DTSTART;TZID=America/New_York:20250510T100000
DTEND;TZID=America/New_York:20250510T100000
DTSTAMP:20260422T063726
CREATED:20240729T174857Z
LAST-MODIFIED:20250219T191519Z
UID:10000706-1746871200-1746871200@settlementmusic.org
SUMMARY:Accompanied Performance Hour (Benoliel-Germantown)
DESCRIPTION:
URL:https://settlementmusic.org/event/accompanied-performance-hour-germantown-8/
LOCATION:Benoliel-Germantown Branch\, 6128 Germantown Ave\, Philadelphia\, PA\, 19144\, United States
CATEGORIES:Germantown
END:VEVENT
BEGIN:VEVENT
DTSTART;TZID=America/New_York:20250510T110000
DTEND;TZID=America/New_York:20250510T110000
DTSTAMP:20260422T063726
CREATED:20240729T173140Z
LAST-MODIFIED:20240729T173140Z
UID:10000608-1746874800-1746874800@settlementmusic.org
SUMMARY:Student Recital (Wynnefield)
DESCRIPTION:
URL:https://settlementmusic.org/event/student-recital-wynnefield-6/
LOCATION:Wynnefield Branch\, 4910 Wynnefield Avenue\, Philadelphia\, PA\, 19131\, United States
CATEGORIES:Wynnefield
END:VEVENT
BEGIN:VEVENT
DTSTART;TZID=America/New_York:20250510T130000
DTEND;TZID=America/New_York:20250510T130000
DTSTAMP:20260422T063726
CREATED:20240729T174009Z
LAST-MODIFIED:20240729T174009Z
UID:10000650-1746882000-1746882000@settlementmusic.org
SUMMARY:Accompanied Performance Hour (Mary Louise Curtis)
DESCRIPTION:
URL:https://settlementmusic.org/event/accompanied-performance-hour-mary-louise-curtis-26/
LOCATION:Mary Louise Curtis Branch\, 416 Queen St.\, Philadelphia\, PA\, 19147\, United States
CATEGORIES:Mary Louise Curtis
END:VEVENT
BEGIN:VEVENT
DTSTART;TZID=America/New_York:20250510T140000
DTEND;TZID=America/New_York:20250510T140000
DTSTAMP:20260422T063726
CREATED:20240729T174905Z
LAST-MODIFIED:20250219T191539Z
UID:10000707-1746885600-1746885600@settlementmusic.org
SUMMARY:Student Recital (Benoliel-Germantown)
DESCRIPTION:
URL:https://settlementmusic.org/event/student-recital-germantown-4/
LOCATION:Benoliel-Germantown Branch\, 6128 Germantown Ave\, Philadelphia\, PA\, 19144\, United States
CATEGORIES:Germantown
END:VEVENT
BEGIN:VEVENT
DTSTART;TZID=America/New_York:20250510T150000
DTEND;TZID=America/New_York:20250510T150000
DTSTAMP:20260422T063726
CREATED:20240729T174018Z
LAST-MODIFIED:20240729T174018Z
UID:10000651-1746889200-1746889200@settlementmusic.org
SUMMARY:Unaccompanied Performance Hour (Mary Louise Curtis)
DESCRIPTION:
URL:https://settlementmusic.org/event/unaccompanied-performance-hour-mary-louise-curtis-28/
LOCATION:Mary Louise Curtis Branch\, 416 Queen St.\, Philadelphia\, PA\, 19147\, United States
CATEGORIES:Mary Louise Curtis
END:VEVENT
END:VCALENDAR