BEGIN:VCALENDAR
VERSION:2.0
PRODID:-//Settlement Music School - ECPv6.15.12.2//NONSGML v1.0//EN
CALSCALE:GREGORIAN
METHOD:PUBLISH
X-WR-CALNAME:Settlement Music School
X-ORIGINAL-URL:https://settlementmusic.org
X-WR-CALDESC:Events for Settlement Music School
REFRESH-INTERVAL;VALUE=DURATION:PT1H
X-Robots-Tag:noindex
X-PUBLISHED-TTL:PT1H
BEGIN:VTIMEZONE
TZID:America/New_York
BEGIN:DAYLIGHT
TZOFFSETFROM:-0500
TZOFFSETTO:-0400
TZNAME:EDT
DTSTART:20240310T070000
END:DAYLIGHT
BEGIN:STANDARD
TZOFFSETFROM:-0400
TZOFFSETTO:-0500
TZNAME:EST
DTSTART:20241103T060000
END:STANDARD
BEGIN:DAYLIGHT
TZOFFSETFROM:-0500
TZOFFSETTO:-0400
TZNAME:EDT
DTSTART:20250309T070000
END:DAYLIGHT
BEGIN:STANDARD
TZOFFSETFROM:-0400
TZOFFSETTO:-0500
TZNAME:EST
DTSTART:20251102T060000
END:STANDARD
BEGIN:DAYLIGHT
TZOFFSETFROM:-0500
TZOFFSETTO:-0400
TZNAME:EDT
DTSTART:20260308T070000
END:DAYLIGHT
BEGIN:STANDARD
TZOFFSETFROM:-0400
TZOFFSETTO:-0500
TZNAME:EST
DTSTART:20261101T060000
END:STANDARD
END:VTIMEZONE
BEGIN:VEVENT
DTSTART;TZID=America/New_York:20250516T190000
DTEND;TZID=America/New_York:20250516T190000
DTSTAMP:20260422T064726
CREATED:20240729T172819Z
LAST-MODIFIED:20240729T172819Z
UID:10000592-1747422000-1747422000@settlementmusic.org
SUMMARY:Student Recital (Willow Grove)
DESCRIPTION:
URL:https://settlementmusic.org/event/student-recital-willow-grove-16/
LOCATION:Willow Grove Branch\, 318 Davisville Road\, Willow Grove\, PA\, 19090\, United States
CATEGORIES:Willow Grove
END:VEVENT
BEGIN:VEVENT
DTSTART;TZID=America/New_York:20250516T193000
DTEND;TZID=America/New_York:20250516T220000
DTSTAMP:20260422T064726
CREATED:20250502T152601Z
LAST-MODIFIED:20250502T152601Z
UID:10000813-1747423800-1747432800@settlementmusic.org
SUMMARY:Settlement Jazz at Studio 34
DESCRIPTION:
URL:https://settlementmusic.org/event/settlement-jazz-at-studio-34/
LOCATION:Studio 34\, 4522 Baltimore Avenue\, Philadelphia\, PA\, 19143\, United States
CATEGORIES:Concert
END:VEVENT
BEGIN:VEVENT
DTSTART;TZID=America/New_York:20250517T100000
DTEND;TZID=America/New_York:20250517T100000
DTSTAMP:20260422T064726
CREATED:20240729T174334Z
LAST-MODIFIED:20240729T174334Z
UID:10000672-1747476000-1747476000@settlementmusic.org
SUMMARY:Certification Recital (Kardon-Northeast)
DESCRIPTION:
URL:https://settlementmusic.org/event/certification-recital-kardon-northeast-2/
LOCATION:Kardon-Northeast Branch\, 3745 Clarendon Avenue\, Philadelphia\, PA\, 19114\, United States
CATEGORIES:Kardon-Northeast
END:VEVENT
BEGIN:VEVENT
DTSTART;TZID=America/New_York:20250517T103000
DTEND;TZID=America/New_York:20250517T103000
DTSTAMP:20260422T064726
CREATED:20240729T174910Z
LAST-MODIFIED:20250502T161951Z
UID:10000708-1747477800-1747477800@settlementmusic.org
SUMMARY:Rhythm in Motion Spring Dance Showcase #1
DESCRIPTION:
URL:https://settlementmusic.org/event/rhythm-in-motion-spring-dance-showcase/
LOCATION:Benoliel-Germantown Branch\, 6128 Germantown Ave\, Philadelphia\, PA\, 19144\, United States
CATEGORIES:Germantown
ATTACH;FMTTYPE=image/jpeg:https://settlementmusic.org/app/uploads/2023/09/DSC_0594-X3.jpg
END:VEVENT
BEGIN:VEVENT
DTSTART;TZID=America/New_York:20250517T110000
DTEND;TZID=America/New_York:20250517T110000
DTSTAMP:20260422T064726
CREATED:20240729T174058Z
LAST-MODIFIED:20240729T174058Z
UID:10000654-1747479600-1747479600@settlementmusic.org
SUMMARY:Unaccompanied Performance Hour (Mary Louise Curtis)
DESCRIPTION:
URL:https://settlementmusic.org/event/unaccompanied-performance-hour-mary-louise-curtis-29/
LOCATION:Mary Louise Curtis Branch\, 416 Queen St.\, Philadelphia\, PA\, 19147\, United States
CATEGORIES:Mary Louise Curtis
END:VEVENT
BEGIN:VEVENT
DTSTART;TZID=America/New_York:20250517T130000
DTEND;TZID=America/New_York:20250517T130000
DTSTAMP:20260422T064726
CREATED:20240729T174025Z
LAST-MODIFIED:20240729T174025Z
UID:10000652-1747486800-1747486800@settlementmusic.org
SUMMARY:Accompanied Performance Hour (Mary Louise Curtis)
DESCRIPTION:
URL:https://settlementmusic.org/event/accompanied-performance-hour-mary-louise-curtis-27/
LOCATION:Mary Louise Curtis Branch\, 416 Queen St.\, Philadelphia\, PA\, 19147\, United States
CATEGORIES:Mary Louise Curtis
END:VEVENT
BEGIN:VEVENT
DTSTART;TZID=America/New_York:20250517T150000
DTEND;TZID=America/New_York:20250517T150000
DTSTAMP:20260422T064726
CREATED:20240729T174033Z
LAST-MODIFIED:20240729T174033Z
UID:10000653-1747494000-1747494000@settlementmusic.org
SUMMARY:Student Recital (Mary Louise Curtis)
DESCRIPTION:
URL:https://settlementmusic.org/event/student-recital-mary-louise-curtis-15/
LOCATION:Mary Louise Curtis Branch\, 416 Queen St.\, Philadelphia\, PA\, 19147\, United States
CATEGORIES:Mary Louise Curtis
END:VEVENT
BEGIN:VEVENT
DTSTART;TZID=America/New_York:20250517T170000
DTEND;TZID=America/New_York:20250517T170000
DTSTAMP:20260422T064726
CREATED:20250422T230131Z
LAST-MODIFIED:20250422T230131Z
UID:10000809-1747501200-1747501200@settlementmusic.org
SUMMARY:Gleeksman-Kohn Children's Choir Concert
DESCRIPTION:
URL:https://settlementmusic.org/event/gleeksman-kohn-childrens-choir-concert/
LOCATION:Benoliel-Germantown Branch\, 6128 Germantown Ave\, Philadelphia\, PA\, 19144\, United States
CATEGORIES:Concert,Germantown
ATTACH;FMTTYPE=image/png:https://settlementmusic.org/app/uploads/2023/09/gleeksman-kohn-childrens-choir.png
END:VEVENT
BEGIN:VEVENT
DTSTART;TZID=America/New_York:20250518T150000
DTEND;TZID=America/New_York:20250518T150000
DTSTAMP:20260422T064726
CREATED:20250227T183920Z
LAST-MODIFIED:20250514T193629Z
UID:10000799-1747580400-1747580400@settlementmusic.org
SUMMARY:Adult Orchestra Concert (Willow Grove)
DESCRIPTION:
URL:https://settlementmusic.org/event/adult-chamber-players-orchestra-concert-willow-grove/
LOCATION:Willow Grove Branch\, 318 Davisville Road\, Willow Grove\, PA\, 19090\, United States
CATEGORIES:Concert,Willow Grove
ATTACH;FMTTYPE=image/jpeg:https://settlementmusic.org/app/uploads/2025/02/Adult-Orchestra.jpg
END:VEVENT
BEGIN:VEVENT
DTSTART;TZID=America/New_York:20250518T150000
DTEND;TZID=America/New_York:20250518T150000
DTSTAMP:20260422T064726
CREATED:20250416T192217Z
LAST-MODIFIED:20250416T193828Z
UID:10000808-1747580400-1747580400@settlementmusic.org
SUMMARY:Tapestry Strings Group Recital
DESCRIPTION:
URL:https://settlementmusic.org/event/tapestry-strings-group-recital/
LOCATION:Mary Louise Curtis Branch\, 416 Queen St.\, Philadelphia\, PA\, 19147\, United States
CATEGORIES:Concert,Mary Louise Curtis
END:VEVENT
BEGIN:VEVENT
DTSTART;TZID=America/New_York:20250518T150000
DTEND;TZID=America/New_York:20250518T150000
DTSTAMP:20260422T064726
CREATED:20250502T161707Z
LAST-MODIFIED:20250502T161948Z
UID:10000814-1747580400-1747580400@settlementmusic.org
SUMMARY:Rhythm in Motion Spring Dance Showcase #2
DESCRIPTION:
URL:https://settlementmusic.org/event/rhythm-in-motion-spring-dance-showcase-2-2/
LOCATION:Benoliel-Germantown Branch\, 6128 Germantown Ave\, Philadelphia\, PA\, 19144\, United States
CATEGORIES:Germantown
ATTACH;FMTTYPE=image/jpeg:https://settlementmusic.org/app/uploads/2023/09/DSC_0594-X3.jpg
END:VEVENT
END:VCALENDAR