BEGIN:VCALENDAR
VERSION:2.0
PRODID:-//Settlement Music School - ECPv6.15.12.2//NONSGML v1.0//EN
CALSCALE:GREGORIAN
METHOD:PUBLISH
X-WR-CALNAME:Settlement Music School
X-ORIGINAL-URL:https://settlementmusic.org
X-WR-CALDESC:Events for Settlement Music School
REFRESH-INTERVAL;VALUE=DURATION:PT1H
X-Robots-Tag:noindex
X-PUBLISHED-TTL:PT1H
BEGIN:VTIMEZONE
TZID:America/New_York
BEGIN:DAYLIGHT
TZOFFSETFROM:-0500
TZOFFSETTO:-0400
TZNAME:EDT
DTSTART:20240310T070000
END:DAYLIGHT
BEGIN:STANDARD
TZOFFSETFROM:-0400
TZOFFSETTO:-0500
TZNAME:EST
DTSTART:20241103T060000
END:STANDARD
BEGIN:DAYLIGHT
TZOFFSETFROM:-0500
TZOFFSETTO:-0400
TZNAME:EDT
DTSTART:20250309T070000
END:DAYLIGHT
BEGIN:STANDARD
TZOFFSETFROM:-0400
TZOFFSETTO:-0500
TZNAME:EST
DTSTART:20251102T060000
END:STANDARD
BEGIN:DAYLIGHT
TZOFFSETFROM:-0500
TZOFFSETTO:-0400
TZNAME:EDT
DTSTART:20260308T070000
END:DAYLIGHT
BEGIN:STANDARD
TZOFFSETFROM:-0400
TZOFFSETTO:-0500
TZNAME:EST
DTSTART:20261101T060000
END:STANDARD
END:VTIMEZONE
BEGIN:VEVENT
DTSTART;TZID=America/New_York:20251027T173000
DTEND;TZID=America/New_York:20251027T190000
DTSTAMP:20260421T193621
CREATED:20250925T191152Z
LAST-MODIFIED:20250925T191413Z
UID:10001006-1761586200-1761591600@settlementmusic.org
SUMMARY:PMAY Masterclass: Jauvon Gilliam\, Percussion
DESCRIPTION:
URL:https://settlementmusic.org/event/pmay-masterclass-jauvon-gilliam-percussion/
LOCATION:Mary Louise Curtis Branch\, 416 Queen St.\, Philadelphia\, PA\, 19147\, United States
CATEGORIES:Masterclass,Workshop
ATTACH;FMTTYPE=image/png:https://settlementmusic.org/app/uploads/2025/09/Screenshot-2025-09-25-151113.png
ORGANIZER;CN="PMAY Artists' Initiative":MAILTO:najib.wong@pmayartists.org
END:VEVENT
BEGIN:VEVENT
DTSTART;TZID=America/New_York:20251027T190000
DTEND;TZID=America/New_York:20251027T190000
DTSTAMP:20260421T193621
CREATED:20250826T191702Z
LAST-MODIFIED:20250826T191702Z
UID:10000917-1761591600-1761591600@settlementmusic.org
SUMMARY:Unaccompanied Performance Hour (Mary Louise Curtis)
DESCRIPTION:
URL:https://settlementmusic.org/event/unaccompanied-performance-hour-mary-louise-curtis-39/
LOCATION:Mary Louise Curtis Branch\, 416 Queen St.\, Philadelphia\, PA\, 19147\, United States
CATEGORIES:Mary Louise Curtis
END:VEVENT
BEGIN:VEVENT
DTSTART;TZID=America/New_York:20251028T190000
DTEND;TZID=America/New_York:20251028T190000
DTSTAMP:20260421T193621
CREATED:20250826T190629Z
LAST-MODIFIED:20250826T190629Z
UID:10000887-1761678000-1761678000@settlementmusic.org
SUMMARY:Performance Hour (Benoliel-Germantown)
DESCRIPTION:
URL:https://settlementmusic.org/event/performance-hour-benoliel-germantown-10/
LOCATION:Benoliel-Germantown Branch\, 6128 Germantown Ave\, Philadelphia\, PA\, 19144\, United States
CATEGORIES:Germantown
END:VEVENT
BEGIN:VEVENT
DTSTART;TZID=America/New_York:20251030T190000
DTEND;TZID=America/New_York:20251030T190000
DTSTAMP:20260421T193621
CREATED:20250930T151834Z
LAST-MODIFIED:20251027T180603Z
UID:10001018-1761850800-1761850800@settlementmusic.org
SUMMARY:Diane Monroe Jazz Trio in Wynnefield
DESCRIPTION:
URL:https://settlementmusic.org/event/diane-monroe-jazz-trio-in-wynnefield-2/
LOCATION:Wynnefield Branch\, 4910 Wynnefield Avenue\, Philadelphia\, PA\, 19131\, United States
CATEGORIES:Wynnefield
ATTACH;FMTTYPE=image/jpeg:https://settlementmusic.org/app/uploads/2025/09/Diane-Monroe.jpg
END:VEVENT
BEGIN:VEVENT
DTSTART;TZID=America/New_York:20251031T170000
DTEND;TZID=America/New_York:20251031T170000
DTSTAMP:20260421T193621
CREATED:20250826T191452Z
LAST-MODIFIED:20250826T191452Z
UID:10000909-1761930000-1761930000@settlementmusic.org
SUMMARY:Mary Louise Curtis Branch Halloween
DESCRIPTION:
URL:https://settlementmusic.org/event/mary-louise-curtis-branch-halloween/
LOCATION:Mary Louise Curtis Branch\, 416 Queen St.\, Philadelphia\, PA\, 19147\, United States
CATEGORIES:Holiday,Holidays,Mary Louise Curtis
END:VEVENT
BEGIN:VEVENT
DTSTART;TZID=America/New_York:20251101T130000
DTEND;TZID=America/New_York:20251101T130000
DTSTAMP:20260421T193621
CREATED:20250826T190856Z
LAST-MODIFIED:20250827T163033Z
UID:10000896-1762002000-1762002000@settlementmusic.org
SUMMARY:Performance Hour (Kardon-Northeast)
DESCRIPTION:
URL:https://settlementmusic.org/event/performance-hour-kardon-northeast-23/
LOCATION:Kardon-Northeast Branch\, 3745 Clarendon Avenue\, Philadelphia\, PA\, 19114\, United States
CATEGORIES:Kardon-Northeast
END:VEVENT
BEGIN:VEVENT
DTSTART;TZID=America/New_York:20251102T120000
DTEND;TZID=America/New_York:20251102T170000
DTSTAMP:20260421T193621
CREATED:20250930T143825Z
LAST-MODIFIED:20250930T144228Z
UID:10001017-1762084800-1762102800@settlementmusic.org
SUMMARY:PMEA District Woodwind Audition Prep for Woodwinds
DESCRIPTION:
URL:https://settlementmusic.org/event/pmea-district-woodwind-audition-prep-for-woodwinds/
LOCATION:Willow Grove Branch\, 318 Davisville Road\, Willow Grove\, PA\, 19090\, United States
CATEGORIES:Auditions,Willow Grove,Workshop
ATTACH;FMTTYPE=image/png:https://settlementmusic.org/app/uploads/2025/09/Woodwind-Auditions.png
END:VEVENT
END:VCALENDAR